Workbook
Name Budget_Factor: Data!$E$74
Name Budget_NoStd: Data!$J$73
Name Budget_Pii: Data!$E$73
Name deltaId: Data!$T$7
Name deltaId_Budget: Data!$T$80
Name DivisorA: Plot!#REF!
Name DivisorA: Data!$M$95
Name DivisorB: Plot!#REF!
Name DivisorB: Data!$M$96
Name dTF_Minus: Data!$BI$23
Name dTF_Plus: Data!$BH$23
Name Faktor: Data!$O$32
Name FaktorA: Plot!#REF!
Name FaktorA: Data!$M$94
Name Func_Mean_Divisor: Data!$BF$4
Name Grand_Total_Var: Data!$K$162
Name GrandTotal: Data!$E$68
Name GrandTotal_Costs: Data!$E$63
Name GrandTotal_Income: Data!$E$59
Name GrandTotal_Priority: Data!$K$68
Name GrandTotal_StDev: Data!$J$68
Name GruppeStr: Plot!#REF!
Name GruppeStr: Data!$M$93
Name GU_Sum_Costs: Data!$BA$5
Name GU_Sum_Income: Data!$BA$6
Name Mean_GUs: Data!$H$23
Name Mean_Tasks: Data!$H$53
Name Task_Sum_Costs: Data!$BB$25
Name Task_Sum_Income: Data!$BB$26
Name TF_Include: Data!$M$69
Name TF_Total: Data!$I$23
Name UncertaintyAnalysis: CurveData!$L$10
Name UncertaintyShare_GeneralUncert: Data!$L$23
Name UncertaintyShare_Tasks: Data!$L$52
Name Units: Data!$E$25
Name Var_Sum_GeneralUncert: Data!$K$23
Name Var_Sum_Tasks: Data!$K$52

Sheet FP
A1: SUCCESSIVE PRINCIPLE: ROBUST BUDGETS & PLANS - that keeps! | H1: Author: mail@compilot.dk | L1: =Data!$A$2 -> Rev. 2024-01-17a
B42: www.lichtenberg.org | H42: compilot.dk

Sheet Data
A1: SUCCESSIVE PRINCIPLE: ROBUST BUDGETS & PLANS - That keeps | Q1: Hide | R1: Hide | S1: Hide | T1: Hide | U1: Hide | V1: Hide | W1: Hide | X1: Hide | Y1: Hide | Z1: Hide | AA1: Hide | AB1: Hide | AC1: Hide | AD1: Hide | AE1: Hide | AF1: Hide | AG1: Hide | AH1: Hide | AI1: Hide | AJ1: Hide | AK1: Hide | AL1: Hide | AM1: Hide | AN1: Hide | AO1: Hide | AP1: Hide | AQ1: Hide | AR1: Hide | AS1: Hide | AT1: Hide | AU1: Hide | AV1: Hide | AW1: Hide | AX1: Hide | AY1: Hide | AZ1: Hide | BA1: Hide | BB1: Hide | BC1: Hide | BD1: Hide | BE1: Hide | BF1: Hide | BG1: Hide | BH1: Hide | BI1: Hide | BJ1: Hide | BK1: Hide | BL1: Hide | BM1: Hide | BN1: Hide | BO1: Hide
A2: Rev. 2024-01-17a | N2: Author: COMPILOT.dk | BJ2: 1:100 | BK2: HandP125 | BO2: Index
O3: =+$L$10 -> P % | Q3: GU | BJ3: 3 | BK3: 2.9 | BO3: 2
A4: UNCERTAINTY ANALYSIS: | D4: Construction - Scoping phase | O4: Limits | P4: Code | BA4: =+C10 -> General Uncertainties | BJ4: 5 | BK4: 4.9 | BO4: 3
A5: Identification of Risks & Opportunities | O5: 0.3 | P5: xx,x% | AZ5: Costs: | BA5: =+SUMIFS($H$11:$H$22,$H$11:$H$22,"<0") -> -4 | BJ5: 5 | BK5: 4.65 | BO5: 4
E6: =F24 -> Analyse Uncertainty= | F6: =UncertaintyAnalysis -> 0.12719387 | O6: 0.1 | P6: xx,x% | R6: =+SUM(R11:R50) -> 577 | U6: =+SUM(U11:U50) -> 561 | AL6: FINDING VALUES | AZ6: Income: | BA6: =+SUMIFS($H$11:$H$22,$H$11:$H$22,">0") -> 124.5
O7: 0.02 | P7: xx,x% | S7: DeltaId: | T7: 1e-07 | X7: Tornado Diagram Data | AE7: =$X$7 -> Tornado Diagram Data | AM7: =$X$8 -> % estimated Min/ML/Max
A8: Enter values/text in the light green cells. | D8: =D68 -> 342.40998 | E8: =E68 -> 493.96029 | F8: =F68 -> 645.5106 | H8: =$H$68 -> 0.12272267 | I8: =$J$68 -> 60.620124 | R8: Sorting out the Top Ten contributions to Uncertainty | X8: % estimated Min/ML/Max | AD8: % Share | AF8: Un-sorted | AL8: =+$AD$8 -> % Share | AN8: Sorted
N9: How can these influence, who long time the tasks are executed? | U9: 1 | V9: =+U9+1 -> 2 | W9: =+V9+1 -> 3 | X9: =+W9+1 -> 4 | Y9: =+X9+1 -> 5 | Z9: =+Y9+1 -> 6 | AA9: =+Z9+1 -> 7 | AB9: =+AA9+1 -> 8 | AC9: =+AB9+1 -> 9 | ... AF9: =+AE9+1 -> 12 | AJ9: Found | AP9: Found | AY9: https://www.youtube.com/watch?v=lVvQOdPr97E
A10: Ref. | B10: Incl. | C10: General Uncertainties | D10: Min | E10: M.L. | F10: Max | H10: Mean | I10: Std | J10: Criticality | K10: Var | L10: =+L26 -> P % | N10: Notes | O10: Skewness | Q10: SumInput | R10: No. | S10: Local No. | T10: =+L10 -> P % | U10: Rank | V10: =+L10 -> P % | W10: =+$D$26 -> Min | X10: =+$E$26 -> M.L. | Y10: =+$F$26 -> Max | Z10: Type | AA10: Text | AD10: =+$D$26 -> Min | AE10: =+$H$26 -> Mean | AF10: =+$F$26 -> Max | AG10: =+$L$10 -> P % | AH10: Check | AJ10: Value | AL10: =+$D$26 -> Min | AM10: =+$H$26 -> Mean | AN10: =+$F$26 -> Max | AP10: Text | AR10: =+L10 -> P % | AS10: =+$D$26 -> Min | AT10: =+$F$26 -> Max | AU10: =+$E$26 -> M.L. | AW10: =+$D$26 -> Min | AX10: =+$E$26 -> M.L. | AY10: =+$F$26 -> Max | BA10: Co/In | BB10: =+$D$26 -> Min | BC10: =+$E$26 -> M.L. | BD10: =+$F$26 -> Max | BE10: =+$H$26 -> Mean | BF10: S(0) | BG10: S(%) | BH10: dTF+ | BI10: dTF-
A11: A | B11: 1 | C11: Contracting strategy | D11: -35 | E11: 10 | F11: 75 | H11: =$B11*(D11+FaktorA*E11+F11)/DivisorA -> 14 | I11: =+$B11*(F11-D11)/DivisorB -> 22 | J11: 1 | K11: =+I11*I11*J11 -> 484 | L11: =+(IF(GrandTotal_Priority<>0,K11/GrandTotal_Priority,0)) -> 0.13170787 | N11: Choice of contract form, etc. | O11: =+(ABS(BD11-BC11)-ABS(BC11-BB11)) -> 0.06542991 | Q11: 1 | R11: =+SUM(INDIRECT("q10:q"&ROW()-0)) -> 1 | S11: =+SUM(INDIRECT("q10:q"&ROW()-0)) -> 1 | T11: =+L11+R11*deltaId -> 0.13170797 | U11: =+RANK(T11,T$11:T$52) -> 2 | V11: =+L11 -> 0.13170787 | W11: =+BB11 -> 0.88549766 | X11: =+BC11 -> 1.032715 | Y11: =+BD11 -> 1.2453622 | Z11: =+$BC$11 -> 1.032715 | AA11: =+CONCATENATE($Q$3,"(",A11,"): ",$C11) -> GU(A): Contracting strategy | AD11: =+$AE11-(1/2)*$K11/GrandTotal_Priority -> 0.93414606 | AE11: 1 | AF11: =+$AE11+(1/2)*$K11/GrandTotal_Priority -> 1.0658539 | AG11: =+AF11-AD11 -> 0.13170787 | AH11: =+AG11-L11 -> 0 | AJ11: =+VLOOKUP($R11,$U$11:$AA$52,$V$9,FALSE) -> 0.21334498 | AL11: =+VLOOKUP($R11,$U$11:$AF$52,AD$9,FALSE) -> 0.89332751 | AM11: =+VLOOKUP($R11,$U$11:$AF$52,AE$9,FALSE) -> 1 | AN11: =+VLOOKUP($R11,$U$11:$AF$52,AF$9,FALSE) -> 1.1066725 | AP11: =+CONCATENATE("#",R11,": ",VLOOKUP($R11,$U$11:$AA$52,$AA$9,FALSE),", P= ",ROUND(AR11*100,1),"%") -> #1: GU(C): Compet. & Experience level, P= 21,3% | AR11: =+VLOOKUP($R11,$U$11:$AA$52,$V$9,FALSE) -> 0.21334498 | AS11: =+VLOOKUP($R11,$U$11:$AA$52,$W$9,FALSE) -> 0.83642522 | AT11: =+VLOOKUP($R11,$U$11:$AA$52,$Y$9,FALSE) -> 1.2944346 | AU11: =+VLOOKUP($R11,$U$11:$AA$52,$X$9,FALSE) -> 1.032715 | AW11: =+IF(OR($AS11<>0,$AT11<>0,$AU11<>0),$AS11,100%) -> 0.83642522 | AX11: =+IF(OR($AS11<>0,$AT11<>0,$AU11<>0),$AU11,100%) -> 1.032715 | AY11: =+IF(OR($AS11<>0,$AT11<>0,$AU11<>0),$AT11,100%) -> 1.2944346 | BA11: =+IF($H11<0,$BB$25,$BB$26) -> 305.6706 | BB11: =+(100%+IFERROR($B11*D11/$BA11,0%)) -> 0.88549766 | BC11: =+(100%+IFERROR($B11*E11/$BA11,0%)) -> 1.032715 | BD11: =+(100%+IFERROR($B11*F11/$BA11,0%)) -> 1.2453622 | BE11: =+(BB11+FaktorA*BC11+BD11)/DivisorA -> 1.0458009 | BF11: =+(BD11-BB11)/DivisorB -> 0.071972902 | BG11: =+IFERROR($I11/$H11,0) -> 1.5714286 | BH11: =+IF($H11>0,$BE11-100%,0%) -> 0.045800937 | BI11: =+IF($H11<=0,$BE11-100%,0%) -> 0
A12: B | B12: 1 | C12: Interfaces | D12: -25 | E12: 0 | F12: 50 | H12: =$B12*(D12+FaktorA*E12+F12)/DivisorA -> 5 | I12: =+$B12*(F12-D12)/DivisorB -> 15 | J12: 1 | K12: =+I12*I12*J12 -> 225 | L12: =+(IF(GrandTotal_Priority<>0,K12/GrandTotal_Priority,0)) -> 0.061227832 | N12: Legal, business and physical | O12: =+(ABS(BD12-BC12)-ABS(BC12-BB12)) -> 0.081787388 | Q12: 1 | R12: =+SUM(INDIRECT("q10:q"&ROW()-0)) -> 2 | S12: =+SUM(INDIRECT("q10:q"&ROW()-0)) -> 2 | T12: =+L12+R12*deltaId -> 0.061228032 | U12: =+RANK(T12,T$11:T$52) -> 8 | V12: =+L12 -> 0.061227832 | W12: =+BB12 -> 0.91821261 | X12: =+BC12 -> 1 | Y12: =+BD12 -> 1.1635748 | Z12: =+$BC$11 -> 1.032715 | AA12: =+CONCATENATE($Q$3,"(",A12,"): ",$C12) -> GU(B): Interfaces | AD12: =+$AE12-(1/2)*$K12/GrandTotal_Priority -> 0.96938608 | AE12: 1 | AF12: =+$AE12+(1/2)*$K12/GrandTotal_Priority -> 1.0306139 | AG12: =+AF12-AD12 -> 0.061227832 | AH12: =+AG12-L12 -> 8.3266727e-17 | AJ12: =+VLOOKUP($R12,$U$11:$AA$52,$V$9,FALSE) -> 0.13170787 | AL12: =+VLOOKUP($R12,$U$11:$AF$52,AD$9,FALSE) -> 0.93414606 | AM12: =+VLOOKUP($R12,$U$11:$AF$52,AE$9,FALSE) -> 1 | AN12: =+VLOOKUP($R12,$U$11:$AF$52,AF$9,FALSE) -> 1.0658539 | AP12: =+CONCATENATE("#",R12,": ",VLOOKUP($R12,$U$11:$AA$52,$AA$9,FALSE),", P= ",ROUND(AR12*100,1),"%") -> #2: GU(A): Contracting strategy, P= 13,2% | AR12: =+VLOOKUP($R12,$U$11:$AA$52,$V$9,FALSE) -> 0.13170787 | AS12: =+VLOOKUP($R12,$U$11:$AA$52,$W$9,FALSE) -> 0.88549766 | AT12: =+VLOOKUP($R12,$U$11:$AA$52,$Y$9,FALSE) -> 1.2453622 | AU12: =+VLOOKUP($R12,$U$11:$AA$52,$X$9,FALSE) -> 1.032715 | AW12: =+IF(OR($AS12<>0,$AT12<>0,$AU12<>0),$AS12,100%) -> 0.88549766 | AX12: =+IF(OR($AS12<>0,$AT12<>0,$AU12<>0),$AU12,100%) -> 1.032715 | AY12: =+IF(OR($AS12<>0,$AT12<>0,$AU12<>0),$AT12,100%) -> 1.2453622 | BA12: =+IF($H12<0,$BB$25,$BB$26) -> 305.6706 | BB12: =+(100%+IFERROR($B12*D12/$BA12,0%)) -> 0.91821261 | BC12: =+(100%+IFERROR($B12*E12/$BA12,0%)) -> 1 | BD12: =+(100%+IFERROR($B12*F12/$BA12,0%)) -> 1.1635748 | BE12: =+(BB12+FaktorA*BC12+BD12)/DivisorA+IF(ABS(D12)+ABS(E12)+ABS(F12)=0,0%,0) -> 1.0163575 | BF12: =+(D12+FaktorA*E12+F12)/DivisorA -> 5 | BG12: =+IFERROR(BF12/$BF$23,0) -> 0.04691665 | BH12: =+IF($H12>0,$BE12-100%,0%) -> 0.016357478 | BI12: =+IF($H12<=0,$BE12-100%,0%) -> 0
A13: C | B13: 1 | C13: Compet. & Experience level | D13: -50 | E13: 10 | F13: 90 | H13: =$B13*(D13+FaktorA*E13+F13)/DivisorA -> 14 | I13: =+$B13*(F13-D13)/DivisorB -> 28 | J13: 1 | K13: =+I13*I13*J13 -> 784 | L13: =+(IF(GrandTotal_Priority<>0,K13/GrandTotal_Priority,0)) -> 0.21334498 | N13: For all partners involved. | O13: =+(ABS(BD13-BC13)-ABS(BC13-BB13)) -> 0.06542991 | Q13: 1 | R13: =+SUM(INDIRECT("q10:q"&ROW()-0)) -> 3 | S13: =+SUM(INDIRECT("q10:q"&ROW()-0)) -> 3 | T13: =+L13+R13*deltaId -> 0.21334528 | U13: =+RANK(T13,T$11:T$52) -> 1 | V13: =+L13 -> 0.21334498 | W13: =+BB13 -> 0.83642522 | X13: =+BC13 -> 1.032715 | Y13: =+BD13 -> 1.2944346 | Z13: =+$BC$11 -> 1.032715 | AA13: =+CONCATENATE($Q$3,"(",A13,"): ",$C13) -> GU(C): Compet. & Experience level | AD13: =+$AE13-(1/2)*$K13/GrandTotal_Priority -> 0.89332751 | AE13: 1 | AF13: =+$AE13+(1/2)*$K13/GrandTotal_Priority -> 1.1066725 | AG13: =+AF13-AD13 -> 0.21334498 | AH13: =+AG13-L13 -> 0 | AJ13: =+VLOOKUP($R13,$U$11:$AA$52,$V$9,FALSE) -> 0.10884948 | AL13: =+VLOOKUP($R13,$U$11:$AF$52,AD$9,FALSE) -> 0.94557526 | AM13: =+VLOOKUP($R13,$U$11:$AF$52,AE$9,FALSE) -> 1 | AN13: =+VLOOKUP($R13,$U$11:$AF$52,AF$9,FALSE) -> 1.0544247 | AP13: =+CONCATENATE("#",R13,": ",VLOOKUP($R13,$U$11:$AA$52,$AA$9,FALSE),", P= ",ROUND(AR13*100,1),"%") -> #3: GU(H): Req. & quality control, P= 10,9% | AR13: =+VLOOKUP($R13,$U$11:$AA$52,$V$9,FALSE) -> 0.10884948 | AS13: =+VLOOKUP($R13,$U$11:$AA$52,$W$9,FALSE) -> 0.91821261 | AT13: =+VLOOKUP($R13,$U$11:$AA$52,$Y$9,FALSE) -> 1.2453622 | AU13: =+VLOOKUP($R13,$U$11:$AA$52,$X$9,FALSE) -> 1.0490724 | AW13: =+IF(OR($AS13<>0,$AT13<>0,$AU13<>0),$AS13,100%) -> 0.91821261 | AX13: =+IF(OR($AS13<>0,$AT13<>0,$AU13<>0),$AU13,100%) -> 1.0490724 | AY13: =+IF(OR($AS13<>0,$AT13<>0,$AU13<>0),$AT13,100%) -> 1.2453622 | BA13: =+IF($H13<0,$BB$25,$BB$26) -> 305.6706 | BB13: =+(100%+IFERROR($B13*D13/$BA13,0%)) -> 0.83642522 | BC13: =+(100%+IFERROR($B13*E13/$BA13,0%)) -> 1.032715 | BD13: =+(100%+IFERROR($B13*F13/$BA13,0%)) -> 1.2944346 | BE13: =+(BB13+FaktorA*BC13+BD13)/DivisorA+IF(ABS(D13)+ABS(E13)+ABS(F13)=0,0%,0) -> 1.0458009 | BF13: =+(D13+FaktorA*E13+F13)/DivisorA -> 14 | BG13: =+IFERROR(BF13/$BF$23,0) -> 0.13136662 | BH13: =+IF($H13>0,$BE13-100%,0%) -> 0.045800937 | BI13: =+IF($H13<=0,$BE13-100%,0%) -> 0
A14: D | B14: 1 | C14: The Builders Org. | D14: -5 | E14: 10 | F14: 17.5 | H14: =$B14*(D14+FaktorA*E14+F14)/DivisorA -> 8.5 | I14: =+$B14*(F14-D14)/DivisorB -> 4.5 | J14: 1 | K14: =+I14*I14*J14 -> 20.25 | L14: =+(IF(GrandTotal_Priority<>0,K14/GrandTotal_Priority,0)) -> 0.0055105049 | N14: Number of people and maturity. | O14: =+(ABS(BD14-BC14)-ABS(BC14-BB14)) -> -0.024536216 | Q14: 1 | R14: =+SUM(INDIRECT("q10:q"&ROW()-0)) -> 4 | S14: =+SUM(INDIRECT("q10:q"&ROW()-0)) -> 4 | T14: =+L14+R14*deltaId -> 0.0055109049 | U14: =+RANK(T14,T$11:T$52) -> 19 | V14: =+L14 -> 0.0055105049 | W14: =+BB14 -> 0.98364252 | X14: =+BC14 -> 1.032715 | Y14: =+BD14 -> 1.0572512 | Z14: =+$BC$11 -> 1.032715 | AA14: =+CONCATENATE($Q$3,"(",A14,"): ",$C14) -> GU(D): The Builders Org. | AD14: =+$AE14-(1/2)*$K14/GrandTotal_Priority -> 0.99724475 | AE14: 1 | AF14: =+$AE14+(1/2)*$K14/GrandTotal_Priority -> 1.0027553 | AG14: =+AF14-AD14 -> 0.0055105049 | AH14: =+AG14-L14 -> 3.0357661e-17 | AJ14: =+VLOOKUP($R14,$U$11:$AA$52,$V$9,FALSE) -> 0.10884948 | AL14: =+VLOOKUP($R14,$U$11:$AF$52,AD$9,FALSE) -> 0.94557526 | AM14: =+VLOOKUP($R14,$U$11:$AF$52,AE$9,FALSE) -> 1 | AN14: =+VLOOKUP($R14,$U$11:$AF$52,AF$9,FALSE) -> 1.0544247 | AP14: =+CONCATENATE("#",R14,": ",VLOOKUP($R14,$U$11:$AA$52,$AA$9,FALSE),", P= ",ROUND(AR14*100,1),"%") -> #4: GU(F): External conditions, P= 10,9% | AR14: =+VLOOKUP($R14,$U$11:$AA$52,$V$9,FALSE) -> 0.10884948 | AS14: =+VLOOKUP($R14,$U$11:$AA$52,$W$9,FALSE) -> 0.91821261 | AT14: =+VLOOKUP($R14,$U$11:$AA$52,$Y$9,FALSE) -> 1.2453622 | AU14: =+VLOOKUP($R14,$U$11:$AA$52,$X$9,FALSE) -> 1.032715 | AW14: =+IF(OR($AS14<>0,$AT14<>0,$AU14<>0),$AS14,100%) -> 0.91821261 | AX14: =+IF(OR($AS14<>0,$AT14<>0,$AU14<>0),$AU14,100%) -> 1.032715 | AY14: =+IF(OR($AS14<>0,$AT14<>0,$AU14<>0),$AT14,100%) -> 1.2453622 | BA14: =+IF($H14<0,$BB$25,$BB$26) -> 305.6706 | BB14: =+(100%+IFERROR($B14*D14/$BA14,0%)) -> 0.98364252 | BC14: =+(100%+IFERROR($B14*E14/$BA14,0%)) -> 1.032715 | BD14: =+(100%+IFERROR($B14*F14/$BA14,0%)) -> 1.0572512 | BE14: =+(BB14+FaktorA*BC14+BD14)/DivisorA+IF(ABS(D14)+ABS(E14)+ABS(F14)=0,0%,0) -> 1.0278077 | BF14: =+(D14+FaktorA*E14+F14)/DivisorA -> 8.5 | BG14: =+IFERROR(BF14/$BF$23,0) -> 0.079758306 | BH14: =+IF($H14>0,$BE14-100%,0%) -> 0.027807712 | BI14: =+IF($H14<=0,$BE14-100%,0%) -> 0
A15: E | B15: 1 | C15: Project Org. | D15: -15 | E15: -5 | F15: 10 | H15: =$B15*(D15+FaktorA*E15+F15)/DivisorA -> -4 | I15: =+$B15*(F15-D15)/DivisorB -> 5 | J15: 1 | K15: =+I15*I15*J15 -> 25 | L15: =+(IF(GrandTotal_Priority<>0,K15/GrandTotal_Priority,0)) -> 0.0068030925 | N15: For alle involved partners. | O15: =+(ABS(BD15-BC15)-ABS(BC15-BB15)) -> 0 | Q15: 1 | R15: =+SUM(INDIRECT("q10:q"&ROW()-0)) -> 5 | S15: =+SUM(INDIRECT("q10:q"&ROW()-0)) -> 5 | T15: =+L15+R15*deltaId -> 0.0068035925 | U15: =+RANK(T15,T$11:T$52) -> 18 | V15: =+L15 -> 0.0068030925 | W15: =+BB15 -> 1 | X15: =+BC15 -> 1 | Y15: =+BD15 -> 1 | Z15: =+$BC$11 -> 1.032715 | AA15: =+CONCATENATE($Q$3,"(",A15,"): ",$C15) -> GU(E): Project Org. | AD15: =+$AE15-(1/2)*$K15/GrandTotal_Priority -> 0.99659845 | AE15: 1 | AF15: =+$AE15+(1/2)*$K15/GrandTotal_Priority -> 1.0034015 | AG15: =+AF15-AD15 -> 0.0068030925 | AH15: =+AG15-L15 -> 2.1684043e-17 | AJ15: =+VLOOKUP($R15,$U$11:$AA$52,$V$9,FALSE) -> 0.088168078 | AL15: =+VLOOKUP($R15,$U$11:$AF$52,AD$9,FALSE) -> 0.95591596 | AM15: =+VLOOKUP($R15,$U$11:$AF$52,AE$9,FALSE) -> 1 | AN15: =+VLOOKUP($R15,$U$11:$AF$52,AF$9,FALSE) -> 1.044084 | AP15: =+CONCATENATE("#",R15,": ",VLOOKUP($R15,$U$11:$AA$52,$AA$9,FALSE),", P= ",ROUND(AR15*100,1),"%") -> #5: Opg15: Accommodation, P= 8,8% | AR15: =+VLOOKUP($R15,$U$11:$AA$52,$V$9,FALSE) -> 0.088168078 | AS15: =+VLOOKUP($R15,$U$11:$AA$52,$W$9,FALSE) -> 0.20408163 | AT15: =+VLOOKUP($R15,$U$11:$AA$52,$Y$9,FALSE) -> 2.0408163 | AU15: =+VLOOKUP($R15,$U$11:$AA$52,$X$9,FALSE) -> 0.91836735 | AW15: =+IF(OR($AS15<>0,$AT15<>0,$AU15<>0),$AS15,100%) -> 0.20408163 | AX15: =+IF(OR($AS15<>0,$AT15<>0,$AU15<>0),$AU15,100%) -> 0.91836735 | AY15: =+IF(OR($AS15<>0,$AT15<>0,$AU15<>0),$AT15,100%) -> 2.0408163 | BA15: =+IF($H15<0,$BB$25,$BB$26) -> 0 | BB15: =+(100%+IFERROR($B15*D15/$BA15,0%)) -> 1 | BC15: =+(100%+IFERROR($B15*E15/$BA15,0%)) -> 1 | BD15: =+(100%+IFERROR($B15*F15/$BA15,0%)) -> 1 | BE15: =+(BB15+FaktorA*BC15+BD15)/DivisorA+IF(ABS(D15)+ABS(E15)+ABS(F15)=0,0%,0) -> 1 | BF15: =+(D15+FaktorA*E15+F15)/DivisorA -> -4 | BG15: =+IFERROR(BF15/$BF$23,0) -> -0.03753332 | BH15: =+IF($H15>0,$BE15-100%,0%) -> 0 | BI15: =+IF($H15<=0,$BE15-100%,0%) -> 0
A16: F | B16: 1 | C16: External conditions | D16: -25 | E16: 10 | F16: 75 | H16: =$B16*(D16+FaktorA*E16+F16)/DivisorA -> 16 | I16: =+$B16*(F16-D16)/DivisorB -> 20 | J16: 1 | K16: =+I16*I16*J16 -> 400 | L16: =+(IF(GrandTotal_Priority<>0,K16/GrandTotal_Priority,0)) -> 0.10884948 | N16: The physical environment /surroundings | O16: =+(ABS(BD16-BC16)-ABS(BC16-BB16)) -> 0.098144866 | Q16: 1 | R16: =+SUM(INDIRECT("q10:q"&ROW()-0)) -> 6 | S16: =+SUM(INDIRECT("q10:q"&ROW()-0)) -> 6 | T16: =+L16+R16*deltaId -> 0.10885008 | U16: =+RANK(T16,T$11:T$52) -> 4 | V16: =+L16 -> 0.10884948 | W16: =+BB16 -> 0.91821261 | X16: =+BC16 -> 1.032715 | Y16: =+BD16 -> 1.2453622 | Z16: =+$BC$11 -> 1.032715 | AA16: =+CONCATENATE($Q$3,"(",A16,"): ",$C16) -> GU(F): External conditions | AD16: =+$AE16-(1/2)*$K16/GrandTotal_Priority -> 0.94557526 | AE16: 1 | AF16: =+$AE16+(1/2)*$K16/GrandTotal_Priority -> 1.0544247 | AG16: =+AF16-AD16 -> 0.10884948 | AH16: =+AG16-L16 -> 0 | AJ16: =+VLOOKUP($R16,$U$11:$AA$52,$V$9,FALSE) -> 0.061227832 | AL16: =+VLOOKUP($R16,$U$11:$AF$52,AD$9,FALSE) -> 0.96938608 | AM16: =+VLOOKUP($R16,$U$11:$AF$52,AE$9,FALSE) -> 1 | AN16: =+VLOOKUP($R16,$U$11:$AF$52,AF$9,FALSE) -> 1.0306139 | AP16: =+CONCATENATE("#",R16,": ",VLOOKUP($R16,$U$11:$AA$52,$AA$9,FALSE),", P= ",ROUND(AR16*100,1),"%") -> #6: Opg13: Raw house, P= 6,1% | AR16: =+VLOOKUP($R16,$U$11:$AA$52,$V$9,FALSE) -> 0.061227832 | AS16: =+VLOOKUP($R16,$U$11:$AA$52,$W$9,FALSE) -> 0.71428571 | AT16: =+VLOOKUP($R16,$U$11:$AA$52,$Y$9,FALSE) -> 1.4285714 | AU16: =+VLOOKUP($R16,$U$11:$AA$52,$X$9,FALSE) -> 0.95238095 | AW16: =+IF(OR($AS16<>0,$AT16<>0,$AU16<>0),$AS16,100%) -> 0.71428571 | AX16: =+IF(OR($AS16<>0,$AT16<>0,$AU16<>0),$AU16,100%) -> 0.95238095 | AY16: =+IF(OR($AS16<>0,$AT16<>0,$AU16<>0),$AT16,100%) -> 1.4285714 | BA16: =+IF($H16<0,$BB$25,$BB$26) -> 305.6706 | BB16: =+(100%+IFERROR($B16*D16/$BA16,0%)) -> 0.91821261 | BC16: =+(100%+IFERROR($B16*E16/$BA16,0%)) -> 1.032715 | BD16: =+(100%+IFERROR($B16*F16/$BA16,0%)) -> 1.2453622 | BE16: =+(BB16+FaktorA*BC16+BD16)/DivisorA+IF(ABS(D16)+ABS(E16)+ABS(F16)=0,0%,0) -> 1.0523439 | BF16: =+(D16+FaktorA*E16+F16)/DivisorA -> 16 | BG16: =+IFERROR(BF16/$BF$23,0) -> 0.15013328 | BH16: =+IF($H16>0,$BE16-100%,0%) -> 0.052343928 | BI16: =+IF($H16<=0,$BE16-100%,0%) -> 0
A17: G | B17: 1 | C17: Construction market index | D17: -10 | E17: 5 | F17: 25 | H17: =$B17*(D17+FaktorA*E17+F17)/DivisorA -> 6 | I17: =+$B17*(F17-D17)/DivisorB -> 7 | J17: 1 | K17: =+I17*I17*J17 -> 49 | L17: =+(IF(GrandTotal_Priority<>0,K17/GrandTotal_Priority,0)) -> 0.013334061 | N17: Boom | O17: =+(ABS(BD17-BC17)-ABS(BC17-BB17)) -> 0.016357478 | Q17: 1 | R17: =+SUM(INDIRECT("q10:q"&ROW()-0)) -> 7 | S17: =+SUM(INDIRECT("q10:q"&ROW()-0)) -> 7 | T17: =+L17+R17*deltaId -> 0.013334761 | U17: =+RANK(T17,T$11:T$52) -> 12 | V17: =+L17 -> 0.013334061 | W17: =+BB17 -> 0.96728504 | X17: =+BC17 -> 1.0163575 | Y17: =+BD17 -> 1.0817874 | Z17: =+$BC$11 -> 1.032715 | AA17: =+CONCATENATE($Q$3,"(",A17,"): ",$C17) -> GU(G): Construction market index | AD17: =+$AE17-(1/2)*$K17/GrandTotal_Priority -> 0.99333297 | AE17: 1 | AF17: =+$AE17+(1/2)*$K17/GrandTotal_Priority -> 1.006667 | AG17: =+AF17-AD17 -> 0.013334061 | AH17: =+AG17-L17 -> -7.8062556e-17 | AJ17: =+VLOOKUP($R17,$U$11:$AA$52,$V$9,FALSE) -> 0.061227832 | AL17: =+VLOOKUP($R17,$U$11:$AF$52,AD$9,FALSE) -> 0.96938608 | AM17: =+VLOOKUP($R17,$U$11:$AF$52,AE$9,FALSE) -> 1 | AN17: =+VLOOKUP($R17,$U$11:$AF$52,AF$9,FALSE) -> 1.0306139 | AP17: =+CONCATENATE("#",R17,": ",VLOOKUP($R17,$U$11:$AA$52,$AA$9,FALSE),", P= ",ROUND(AR17*100,1),"%") -> #7: GU(I): Political issues, P= 6,1% | AR17: =+VLOOKUP($R17,$U$11:$AA$52,$V$9,FALSE) -> 0.061227832 | AS17: =+VLOOKUP($R17,$U$11:$AA$52,$W$9,FALSE) -> 0.91821261 | AT17: =+VLOOKUP($R17,$U$11:$AA$52,$Y$9,FALSE) -> 1.1635748 | AU17: =+VLOOKUP($R17,$U$11:$AA$52,$X$9,FALSE) -> 1.032715 | AW17: =+IF(OR($AS17<>0,$AT17<>0,$AU17<>0),$AS17,100%) -> 0.91821261 | AX17: =+IF(OR($AS17<>0,$AT17<>0,$AU17<>0),$AU17,100%) -> 1.032715 | AY17: =+IF(OR($AS17<>0,$AT17<>0,$AU17<>0),$AT17,100%) -> 1.1635748 | BA17: =+IF($H17<0,$BB$25,$BB$26) -> 305.6706 | BB17: =+(100%+IFERROR($B17*D17/$BA17,0%)) -> 0.96728504 | BC17: =+(100%+IFERROR($B17*E17/$BA17,0%)) -> 1.0163575 | BD17: =+(100%+IFERROR($B17*F17/$BA17,0%)) -> 1.0817874 | BE17: =+(BB17+FaktorA*BC17+BD17)/DivisorA+IF(ABS(D17)+ABS(E17)+ABS(F17)=0,0%,0) -> 1.019629 | BF17: =+(D17+FaktorA*E17+F17)/DivisorA -> 6 | BG17: =+IFERROR(BF17/$BF$23,0) -> 0.056299981 | BH17: =+IF($H17>0,$BE17-100%,0%) -> 0.019628973 | BI17: =+IF($H17<=0,$BE17-100%,0%) -> 0
A18: H | B18: 1 | C18: Req. & quality control | D18: -25 | E18: 15 | F18: 75 | H18: =$B18*(D18+FaktorA*E18+F18)/DivisorA -> 19 | I18: =+$B18*(F18-D18)/DivisorB -> 20 | J18: 1 | K18: =+I18*I18*J18 -> 400 | L18: =+(IF(GrandTotal_Priority<>0,K18/GrandTotal_Priority,0)) -> 0.10884948 | N18: Throughout the project. | O18: =+(ABS(BD18-BC18)-ABS(BC18-BB18)) -> 0.06542991 | Q18: 1 | R18: =+SUM(INDIRECT("q10:q"&ROW()-0)) -> 8 | S18: =+SUM(INDIRECT("q10:q"&ROW()-0)) -> 8 | T18: =+L18+R18*deltaId -> 0.10885028 | U18: =+RANK(T18,T$11:T$52) -> 3 | V18: =+L18 -> 0.10884948 | W18: =+BB18 -> 0.91821261 | X18: =+BC18 -> 1.0490724 | Y18: =+BD18 -> 1.2453622 | Z18: =+$BC$11 -> 1.032715 | AA18: =+CONCATENATE($Q$3,"(",A18,"): ",$C18) -> GU(H): Req. & quality control | AD18: =+$AE18-(1/2)*$K18/GrandTotal_Priority -> 0.94557526 | AE18: 1 | AF18: =+$AE18+(1/2)*$K18/GrandTotal_Priority -> 1.0544247 | AG18: =+AF18-AD18 -> 0.10884948 | AH18: =+AG18-L18 -> 0 | AJ18: =+VLOOKUP($R18,$U$11:$AA$52,$V$9,FALSE) -> 0.061227832 | AL18: =+VLOOKUP($R18,$U$11:$AF$52,AD$9,FALSE) -> 0.96938608 | AM18: =+VLOOKUP($R18,$U$11:$AF$52,AE$9,FALSE) -> 1 | AN18: =+VLOOKUP($R18,$U$11:$AF$52,AF$9,FALSE) -> 1.0306139 | AP18: =+CONCATENATE("#",R18,": ",VLOOKUP($R18,$U$11:$AA$52,$AA$9,FALSE),", P= ",ROUND(AR18*100,1),"%") -> #8: GU(B): Interfaces, P= 6,1% | AR18: =+VLOOKUP($R18,$U$11:$AA$52,$V$9,FALSE) -> 0.061227832 | AS18: =+VLOOKUP($R18,$U$11:$AA$52,$W$9,FALSE) -> 0.91821261 | AT18: =+VLOOKUP($R18,$U$11:$AA$52,$Y$9,FALSE) -> 1.1635748 | AU18: =+VLOOKUP($R18,$U$11:$AA$52,$X$9,FALSE) -> 1 | AW18: =+IF(OR($AS18<>0,$AT18<>0,$AU18<>0),$AS18,100%) -> 0.91821261 | AX18: =+IF(OR($AS18<>0,$AT18<>0,$AU18<>0),$AU18,100%) -> 1 | AY18: =+IF(OR($AS18<>0,$AT18<>0,$AU18<>0),$AT18,100%) -> 1.1635748 | BA18: =+IF($H18<0,$BB$25,$BB$26) -> 305.6706 | BB18: =+(100%+IFERROR($B18*D18/$BA18,0%)) -> 0.91821261 | BC18: =+(100%+IFERROR($B18*E18/$BA18,0%)) -> 1.0490724 | BD18: =+(100%+IFERROR($B18*F18/$BA18,0%)) -> 1.2453622 | BE18: =+(BB18+FaktorA*BC18+BD18)/DivisorA+IF(ABS(D18)+ABS(E18)+ABS(F18)=0,0%,0) -> 1.0621584 | BF18: =+(D18+FaktorA*E18+F18)/DivisorA -> 19 | BG18: =+IFERROR(BF18/$BF$23,0) -> 0.17828327 | BH18: =+IF($H18>0,$BE18-100%,0%) -> 0.062158415 | BI18: =+IF($H18<=0,$BE18-100%,0%) -> 0
A19: I | B19: 1 | C19: Political issues | D19: -25 | E19: 10 | F19: 50 | H19: =$B19*(D19+FaktorA*E19+F19)/DivisorA -> 11 | I19: =+$B19*(F19-D19)/DivisorB -> 15 | J19: 1 | K19: =+I19*I19*J19 -> 225 | L19: =+(IF(GrandTotal_Priority<>0,K19/GrandTotal_Priority,0)) -> 0.061227832 | N19: The decision-makers, supporters and opponents. Political agenda. | O19: =+(ABS(BD19-BC19)-ABS(BC19-BB19)) -> 0.016357478 | Q19: 1 | R19: =+SUM(INDIRECT("q10:q"&ROW()-0)) -> 9 | S19: =+SUM(INDIRECT("q10:q"&ROW()-0)) -> 9 | T19: =+L19+R19*deltaId -> 0.061228732 | U19: =+RANK(T19,T$11:T$52) -> 7 | V19: =+L19 -> 0.061227832 | W19: =+BB19 -> 0.91821261 | X19: =+BC19 -> 1.032715 | Y19: =+BD19 -> 1.1635748 | Z19: =+$BC$11 -> 1.032715 | AA19: =+CONCATENATE($Q$3,"(",A19,"): ",$C19) -> GU(I): Political issues | AD19: =+$AE19-(1/2)*$K19/GrandTotal_Priority -> 0.96938608 | AE19: 1 | AF19: =+$AE19+(1/2)*$K19/GrandTotal_Priority -> 1.0306139 | AG19: =+AF19-AD19 -> 0.061227832 | AH19: =+AG19-L19 -> 8.3266727e-17 | AJ19: =+VLOOKUP($R19,$U$11:$AA$52,$V$9,FALSE) -> 0.032926968 | AL19: =+VLOOKUP($R19,$U$11:$AF$52,AD$9,FALSE) -> 0.98353652 | AM19: =+VLOOKUP($R19,$U$11:$AF$52,AE$9,FALSE) -> 1 | AN19: =+VLOOKUP($R19,$U$11:$AF$52,AF$9,FALSE) -> 1.0164635 | AP19: =+CONCATENATE("#",R19,": ",VLOOKUP($R19,$U$11:$AA$52,$AA$9,FALSE),", P= ",ROUND(AR19*100,1),"%") -> #9: Opg40: Other, P= 3,3% | AR19: =+VLOOKUP($R19,$U$11:$AA$52,$V$9,FALSE) -> 0.032926968 | AS19: =+VLOOKUP($R19,$U$11:$AA$52,$W$9,FALSE) -> 0.43478261 | AT19: =+VLOOKUP($R19,$U$11:$AA$52,$Y$9,FALSE) -> 1.6304348 | AU19: =+VLOOKUP($R19,$U$11:$AA$52,$X$9,FALSE) -> 0.97826087 | AW19: =+IF(OR($AS19<>0,$AT19<>0,$AU19<>0),$AS19,100%) -> 0.43478261 | AX19: =+IF(OR($AS19<>0,$AT19<>0,$AU19<>0),$AU19,100%) -> 0.97826087 | AY19: =+IF(OR($AS19<>0,$AT19<>0,$AU19<>0),$AT19,100%) -> 1.6304348 | BA19: =+IF($H19<0,$BB$25,$BB$26) -> 305.6706 | BB19: =+(100%+IFERROR($B19*D19/$BA19,0%)) -> 0.91821261 | BC19: =+(100%+IFERROR($B19*E19/$BA19,0%)) -> 1.032715 | BD19: =+(100%+IFERROR($B19*F19/$BA19,0%)) -> 1.1635748 | BE19: =+(BB19+FaktorA*BC19+BD19)/DivisorA+IF(ABS(D19)+ABS(E19)+ABS(F19)=0,0%,0) -> 1.0359865 | BF19: =+(D19+FaktorA*E19+F19)/DivisorA -> 11 | BG19: =+IFERROR(BF19/$BF$23,0) -> 0.10321663 | BH19: =+IF($H19>0,$BE19-100%,0%) -> 0.035986451 | BI19: =+IF($H19<=0,$BE19-100%,0%) -> 0
A20: J | B20: 1 | C20: Geographic index | D20: 5 | E20: 15 | F20: 35 | H20: =$B20*(D20+FaktorA*E20+F20)/DivisorA -> 17 | I20: =+$B20*(F20-D20)/DivisorB -> 6 | J20: 1 | K20: =+I20*I20*J20 -> 36 | L20: =+(IF(GrandTotal_Priority<>0,K20/GrandTotal_Priority,0)) -> 0.0097964532 | N20: Where to build | O20: =+(ABS(BD20-BC20)-ABS(BC20-BB20)) -> 0.032714955 | Q20: 1 | R20: =+SUM(INDIRECT("q10:q"&ROW()-0)) -> 10 | S20: =+SUM(INDIRECT("q10:q"&ROW()-0)) -> 10 | T20: =+L20+R20*deltaId -> 0.0097974532 | U20: =+RANK(T20,T$11:T$52) -> 15 | V20: =+L20 -> 0.0097964532 | W20: =+BB20 -> 1.0163575 | X20: =+BC20 -> 1.0490724 | Y20: =+BD20 -> 1.1145023 | Z20: =+$BC$11 -> 1.032715 | AA20: =+CONCATENATE($Q$3,"(",A20,"): ",$C20) -> GU(J): Geographic index | AD20: =+$AE20-(1/2)*$K20/GrandTotal_Priority -> 0.99510177 | AE20: 1 | AF20: =+$AE20+(1/2)*$K20/GrandTotal_Priority -> 1.0048982 | AG20: =+AF20-AD20 -> 0.0097964532 | AH20: =+AG20-L20 -> -9.3675068e-17 | AJ20: =+VLOOKUP($R20,$U$11:$AA$52,$V$9,FALSE) -> 0.032926968 | AL20: =+VLOOKUP($R20,$U$11:$AF$52,AD$9,FALSE) -> 0.98353652 | AM20: =+VLOOKUP($R20,$U$11:$AF$52,AE$9,FALSE) -> 1 | AN20: =+VLOOKUP($R20,$U$11:$AF$52,AF$9,FALSE) -> 1.0164635 | AP20: =+CONCATENATE("#",R20,": ",VLOOKUP($R20,$U$11:$AA$52,$AA$9,FALSE),", P= ",ROUND(AR20*100,1),"%") -> #10: Opg16: Installations, P= 3,3% | AR20: =+VLOOKUP($R20,$U$11:$AA$52,$V$9,FALSE) -> 0.032926968 | AS20: =+VLOOKUP($R20,$U$11:$AA$52,$W$9,FALSE) -> 0.5 | AT20: =+VLOOKUP($R20,$U$11:$AA$52,$Y$9,FALSE) -> 1.875 | AU20: =+VLOOKUP($R20,$U$11:$AA$52,$X$9,FALSE) -> 0.875 | AW20: =+IF(OR($AS20<>0,$AT20<>0,$AU20<>0),$AS20,100%) -> 0.5 | AX20: =+IF(OR($AS20<>0,$AT20<>0,$AU20<>0),$AU20,100%) -> 0.875 | AY20: =+IF(OR($AS20<>0,$AT20<>0,$AU20<>0),$AT20,100%) -> 1.875 | BA20: =+IF($H20<0,$BB$25,$BB$26) -> 305.6706 | BB20: =+(100%+IFERROR($B20*D20/$BA20,0%)) -> 1.0163575 | BC20: =+(100%+IFERROR($B20*E20/$BA20,0%)) -> 1.0490724 | BD20: =+(100%+IFERROR($B20*F20/$BA20,0%)) -> 1.1145023 | BE20: =+(BB20+FaktorA*BC20+BD20)/DivisorA+IF(ABS(D20)+ABS(E20)+ABS(F20)=0,0%,0) -> 1.0556154 | BF20: =+(D20+FaktorA*E20+F20)/DivisorA -> 17 | BG20: =+IFERROR(BF20/$BF$23,0) -> 0.15951661 | BH20: =+IF($H20>0,$BE20-100%,0%) -> 0.055615424 | BI20: =+IF($H20<=0,$BE20-100%,0%) -> 0
A21: K | B21: 1 | C21: Media | D21: -5 | E21: 0 | F21: 25 | H21: =$B21*(D21+FaktorA*E21+F21)/DivisorA -> 4 | I21: =+$B21*(F21-D21)/DivisorB -> 6 | J21: 1 | K21: =+I21*I21*J21 -> 36 | L21: =+(IF(GrandTotal_Priority<>0,K21/GrandTotal_Priority,0)) -> 0.0097964532 | N21: TV, FB, LinkedIn, X, radio | O21: =+(ABS(BD21-BC21)-ABS(BC21-BB21)) -> 0.06542991 | Q21: 1 | R21: =+SUM(INDIRECT("q10:q"&ROW()-0)) -> 11 | S21: =+SUM(INDIRECT("q10:q"&ROW()-0)) -> 11 | T21: =+L21+R21*deltaId -> 0.0097975532 | U21: =+RANK(T21,T$11:T$52) -> 14 | V21: =+L21 -> 0.0097964532 | W21: =+BB21 -> 0.98364252 | X21: =+BC21 -> 1 | Y21: =+BD21 -> 1.0817874 | Z21: =+$BC$11 -> 1.032715 | AA21: =+CONCATENATE($Q$3,"(",A21,"): ",$C21) -> GU(K): Media | AD21: =+$AE21-(1/2)*$K21/GrandTotal_Priority -> 0.99510177 | AE21: 1 | AF21: =+$AE21+(1/2)*$K21/GrandTotal_Priority -> 1.0048982 | AG21: =+AF21-AD21 -> 0.0097964532 | AH21: =+AG21-L21 -> -9.3675068e-17 | AJ21: =+VLOOKUP($R21,$U$11:$AA$52,$V$9,FALSE) -> 0.02721237 | AL21: =+VLOOKUP($R21,$U$11:$AF$52,AD$9,FALSE) -> 0.98639382 | AM21: =+VLOOKUP($R21,$U$11:$AF$52,AE$9,FALSE) -> 1 | AN21: =+VLOOKUP($R21,$U$11:$AF$52,AF$9,FALSE) -> 1.0136062 | AP21: =+CONCATENATE("#",R21,": ",VLOOKUP($R21,$U$11:$AA$52,$AA$9,FALSE),", P= ",ROUND(AR21*100,1),"%") -> #11: GU(Z): Analysis quality, P= 2,7% | AR21: =+VLOOKUP($R21,$U$11:$AA$52,$V$9,FALSE) -> 0.02721237 | AS21: =+VLOOKUP($R21,$U$11:$AA$52,$W$9,FALSE) -> 0.95092757 | AT21: =+VLOOKUP($R21,$U$11:$AA$52,$Y$9,FALSE) -> 1.1145023 | AU21: =+VLOOKUP($R21,$U$11:$AA$52,$X$9,FALSE) -> 1.032715 | AW21: =+IF(OR($AS21<>0,$AT21<>0,$AU21<>0),$AS21,100%) -> 0.95092757 | AX21: =+IF(OR($AS21<>0,$AT21<>0,$AU21<>0),$AU21,100%) -> 1.032715 | AY21: =+IF(OR($AS21<>0,$AT21<>0,$AU21<>0),$AT21,100%) -> 1.1145023 | BA21: =+IF($H21<0,$BB$25,$BB$26) -> 305.6706 | BB21: =+(100%+IFERROR($B21*D21/$BA21,0%)) -> 0.98364252 | BC21: =+(100%+IFERROR($B21*E21/$BA21,0%)) -> 1 | BD21: =+(100%+IFERROR($B21*F21/$BA21,0%)) -> 1.0817874 | BE21: =+(BB21+FaktorA*BC21+BD21)/DivisorA+IF(ABS(D21)+ABS(E21)+ABS(F21)=0,0%,0) -> 1.013086 | BF21: =+(D21+FaktorA*E21+F21)/DivisorA -> 4 | BG21: =+IFERROR(BF21/$BF$23,0) -> 0.03753332 | BH21: =+IF($H21>0,$BE21-100%,0%) -> 0.013085982 | BI21: =+IF($H21<=0,$BE21-100%,0%) -> 0
A22: Z | B22: 1 | C22: Analysis quality | D22: -15 | E22: 10 | F22: 35 | H22: =$B22*(D22+FaktorA*E22+F22)/DivisorA -> 10 | I22: =+$B22*(F22-D22)/DivisorB -> 10 | J22: 1 | K22: =+I22*I22*J22 -> 100 | L22: =+(IF(GrandTotal_Priority<>0,K22/GrandTotal_Priority,0)) -> 0.02721237 | N22: Description of the tasks, composition of the analysis group, number of participants, facilitator experiences and other aspects | O22: =+(ABS(BD22-BC22)-ABS(BC22-BB22)) -> 0 | Q22: 1 | R22: =+SUM(INDIRECT("q10:q"&ROW()-0)) -> 12 | S22: =+SUM(INDIRECT("q10:q"&ROW()-0)) -> 12 | T22: =+L22+R22*deltaId -> 0.02721357 | U22: =+RANK(T22,T$11:T$52) -> 11 | V22: =+L22 -> 0.02721237 | W22: =+BB22 -> 0.95092757 | X22: =+BC22 -> 1.032715 | Y22: =+BD22 -> 1.1145023 | Z22: =+$BC$11 -> 1.032715 | AA22: =+CONCATENATE($Q$3,"(",A22,"): ",$C22) -> GU(Z): Analysis quality | AD22: =+$AE22-(1/2)*$K22/GrandTotal_Priority -> 0.98639382 | AE22: 1 | AF22: =+$AE22+(1/2)*$K22/GrandTotal_Priority -> 1.0136062 | AG22: =+AF22-AD22 -> 0.02721237 | AH22: =+AG22-L22 -> 8.6736174e-17 | AJ22: =+VLOOKUP($R22,$U$11:$AA$52,$V$9,FALSE) -> 0.013334061 | AL22: =+VLOOKUP($R22,$U$11:$AF$52,AD$9,FALSE) -> 0.99333297 | AM22: =+VLOOKUP($R22,$U$11:$AF$52,AE$9,FALSE) -> 1 | AN22: =+VLOOKUP($R22,$U$11:$AF$52,AF$9,FALSE) -> 1.006667 | AP22: =+CONCATENATE("#",R22,": ",VLOOKUP($R22,$U$11:$AA$52,$AA$9,FALSE),", P= ",ROUND(AR22*100,1),"%") -> #12: GU(G): Construction market index, P= 1,3% | AR22: =+VLOOKUP($R22,$U$11:$AA$52,$V$9,FALSE) -> 0.013334061 | AS22: =+VLOOKUP($R22,$U$11:$AA$52,$W$9,FALSE) -> 0.96728504 | AT22: =+VLOOKUP($R22,$U$11:$AA$52,$Y$9,FALSE) -> 1.0817874 | AU22: =+VLOOKUP($R22,$U$11:$AA$52,$X$9,FALSE) -> 1.0163575 | AW22: =+IF(OR($AS22<>0,$AT22<>0,$AU22<>0),$AS22,100%) -> 0.96728504 | AX22: =+IF(OR($AS22<>0,$AT22<>0,$AU22<>0),$AU22,100%) -> 1.0163575 | AY22: =+IF(OR($AS22<>0,$AT22<>0,$AU22<>0),$AT22,100%) -> 1.0817874 | BA22: =+IF($H22<0,$BB$25,$BB$26) -> 305.6706 | BB22: =+(100%+IFERROR($B22*D22/$BA22,0%)) -> 0.95092757 | BC22: =+(100%+IFERROR($B22*E22/$BA22,0%)) -> 1.032715 | BD22: =+(100%+IFERROR($B22*F22/$BA22,0%)) -> 1.1145023 | BE22: =+(BB22+FaktorA*BC22+BD22)/DivisorA+IF(ABS(D22)+ABS(E22)+ABS(F22)=0,0%,0) -> 1.032715 | BF22: =+(D22+FaktorA*E22+F22)/DivisorA -> 10 | BG22: =+IFERROR(BF22/$BF$23,0) -> 0.093833301 | BH22: =+IF($H22>0,$BE22-100%,0%) -> 0.032714955 | BI22: =+IF($H22<=0,$BE22-100%,0%) -> 0
D23: =+_xlfn.CONCAT(C10," :") -> General Uncertainties : | H23: =+SUM(H11:H22) -> 120.5 | I23: =100%+IFERROR(Mean_GUs/Mean_Tasks,0%) -> 1.3226581 | K23: =+IFERROR(SUM(K11:K22),0) -> 2784.25 | L23: =+SUM(L11:L22) -> 0.75766041 | BF23: =+SUM(BF11:BF22) -> 106.57197 | BG23: =+SUM(BG11:BG22) -> 2.5707532 | BH23: =100%+SUM(BH11:BH22) -> 1.4073012 | BI23: =100%+SUM(BI11:BI22) -> 1
F24: Analyse Uncertainty= | H24: =UncertaintyAnalysis -> 0.12719387 | K24: Check | L24: =+UncertaintyShare_GeneralUncert+UncertaintyShare_Tasks -> 1 | N24: CONTACT COMPILOT.dk for free support. | BB24: =+C26 -> Tasks
D25: Unit - Tasks | E25: Min. | BA25: Costs: | BB25: =+SUMIFS($H$27:$H$39,$H$27:$H$39,"<0") -> 0 | BC25: =+IFERROR(ABS(Task_Sum_Costs)/$BB$27,0) -> 0
A26: =+A10 -> Ref. | B26: =+B10 -> Incl. | C26: Tasks | D26: =+$D$10 -> Min | E26: =+$E$10 -> M.L. | F26: =+$F$10 -> Max | H26: =+$H$10 -> Mean | I26: =+$I$10 -> Std | J26: =+$J$10 -> Criticality | K26: =+$K$10 -> Var | L26: P % | N26: Notes. | O26: =+O10 -> Skewness | BA26: Income: | BB26: =+SUMIFS($H$27:$H$39,$H$27:$H$39,">0") -> 305.6706 | BC26: =+IFERROR(ABS(Task_Sum_Income)/$BB$27,0) -> 1
A27: 11 | B27: 1 | C27: Demolition | D27: 5 | E27: 10 | F27: 35 | G27: =+SUM(H27:H33)/Mean_Tasks -> 0.7042248 | H27: =+$B27*(D27+FaktorA*E27+F27)/DivisorA -> 14 | I27: =+$B27*(F27-D27)/DivisorB -> 6 | J27: 1 | K27: =+I27*I27*J27 -> 36 | L27: =+(IF(GrandTotal_Priority<>0,K27/GrandTotal_Priority,0)) -> 0.0097964532 | N27: This is a simple model, which shows the principles of the method. | O27: =+(IFERROR(((F27-E27)-(E27-D27))/E27,0)) -> 2 | Q27: 1 | R27: =+SUM(INDIRECT("q10:q"&ROW()-0)) -> 13 | S27: =+SUM(INDIRECT("q25:q"&ROW()-0)) -> 1 | T27: =+L27+R27*deltaId -> 0.0097977532 | U27: =+RANK(T27,T$11:T$52) -> 13 | V27: =+L27 -> 0.0097964532 | W27: =+IFERROR(D27/$H27,0) -> 0.35714286 | X27: =+IFERROR(E27/$H27,0) -> 0.71428571 | Y27: =+IFERROR(F27/$H27,0) -> 2.5 | Z27: =+$BC$11 -> 1.032715 | AA27: =+CONCATENATE("Opg",A27,": ",$C27) -> Opg11: Demolition | AD27: =+$AE27-(1/2)*$K27/GrandTotal_Priority -> 0.99510177 | AE27: 1 | AF27: =+$AE27+(1/2)*$K27/GrandTotal_Priority -> 1.0048982 | AG27: =+AF27-AD27 -> 0.0097964532 | AH27: =+AG27-L27 -> -9.3675068e-17 | AJ27: =+VLOOKUP($R27,$U$11:$AA$52,$V$9,FALSE) -> 0.0097964532 | AP27: =+CONCATENATE("#",R27,": ",VLOOKUP($R27,$U$11:$AA$52,$AA$9,FALSE)) -> #13: Opg11: Demolition | AS27: =+VLOOKUP($R27,$U$11:$AA$52,$W$9,FALSE) -> 0.35714286 | AT27: =+VLOOKUP($R27,$U$11:$AA$52,$Y$9,FALSE) -> 2.5 | AU27: =+VLOOKUP($R27,$U$11:$AA$52,$X$9,FALSE) -> 0.71428571 | BB27: =+ABS(Task_Sum_Costs)+ABS(Task_Sum_Income) -> 305.6706
A28: 12 | B28: 1 | C28: Building site | D28: 25 | E28: 30 | F28: 50 | H28: =+$B28*(D28+FaktorA*E28+F28)/DivisorA -> 33 | I28: =+$B28*(F28-D28)/DivisorB -> 5 | J28: 1 | K28: =+I28*I28*J28 -> 25 | L28: =+(IF(GrandTotal_Priority<>0,K28/GrandTotal_Priority,0)) -> 0.0068030925 | O28: =+(IFERROR(((F28-E28)-(E28-D28))/E28,0)) -> 0.5 | Q28: 1 | R28: =+SUM(INDIRECT("q10:q"&ROW()-0)) -> 14 | S28: =+SUM(INDIRECT("q25:q"&ROW()-0)) -> 2 | T28: =+L28+R28*deltaId -> 0.0068044925 | U28: =+RANK(T28,T$11:T$52) -> 17 | V28: =+L28 -> 0.0068030925 | W28: =+IFERROR(D28/$H28,0) -> 0.75757576 | X28: =+IFERROR(E28/$H28,0) -> 0.90909091 | Y28: =+IFERROR(F28/$H28,0) -> 1.5151515 | Z28: =+$BC$11 -> 1.032715 | AA28: =+CONCATENATE("Opg",A28,": ",$C28) -> Opg12: Building site | AD28: =+$AE28-(1/2)*$K28/GrandTotal_Priority -> 0.99659845 | AE28: 1 | AF28: =+$AE28+(1/2)*$K28/GrandTotal_Priority -> 1.0034015 | AG28: =+AF28-AD28 -> 0.0068030925 | AH28: =+AG28-L28 -> 2.1684043e-17 | AJ28: =+VLOOKUP($R28,$U$11:$AA$52,$V$9,FALSE) -> 0.0097964532 | AP28: =+CONCATENATE("#",R28,": ",VLOOKUP($R28,$U$11:$AA$52,$AA$9,FALSE)) -> #14: GU(K): Media | AS28: =+VLOOKUP($R28,$U$11:$AA$52,$W$9,FALSE) -> 0.98364252 | AT28: =+VLOOKUP($R28,$U$11:$AA$52,$Y$9,FALSE) -> 1.0817874 | AU28: =+VLOOKUP($R28,$U$11:$AA$52,$X$9,FALSE) -> 1
A29: 13 | B29: 1 | C29: Raw house | D29: 75 | E29: 100 | F29: 150 | H29: =+$B29*(D29+FaktorA*E29+F29)/DivisorA -> 105 | I29: =+$B29*(F29-D29)/DivisorB -> 15 | J29: 1 | K29: =+I29*I29*J29 -> 225 | L29: =+(IF(GrandTotal_Priority<>0,K29/GrandTotal_Priority,0)) -> 0.061227832 | N29: New principles need to be designed. | O29: =+(IFERROR(((F29-E29)-(E29-D29))/E29,0)) -> 0.25 | Q29: 1 | R29: =+SUM(INDIRECT("q10:q"&ROW()-0)) -> 15 | S29: =+SUM(INDIRECT("q25:q"&ROW()-0)) -> 3 | T29: =+L29+R29*deltaId -> 0.061229332 | U29: =+RANK(T29,T$11:T$52) -> 6 | V29: =+L29 -> 0.061227832 | W29: =+IFERROR(D29/$H29,0) -> 0.71428571 | X29: =+IFERROR(E29/$H29,0) -> 0.95238095 | Y29: =+IFERROR(F29/$H29,0) -> 1.4285714 | Z29: =+$BC$11 -> 1.032715 | AA29: =+CONCATENATE("Opg",A29,": ",$C29) -> Opg13: Raw house | AD29: =+$AE29-(1/2)*$K29/GrandTotal_Priority -> 0.96938608 | AE29: 1 | AF29: =+$AE29+(1/2)*$K29/GrandTotal_Priority -> 1.0306139 | AG29: =+AF29-AD29 -> 0.061227832 | AH29: =+AG29-L29 -> 8.3266727e-17 | AJ29: =+VLOOKUP($R29,$U$11:$AA$52,$V$9,FALSE) -> 0.0097964532 | AP29: =+CONCATENATE("#",R29,": ",VLOOKUP($R29,$U$11:$AA$52,$AA$9,FALSE)) -> #15: GU(J): Geographic index | AS29: =+VLOOKUP($R29,$U$11:$AA$52,$W$9,FALSE) -> 1.0163575 | AT29: =+VLOOKUP($R29,$U$11:$AA$52,$Y$9,FALSE) -> 1.1145023 | AU29: =+VLOOKUP($R29,$U$11:$AA$52,$X$9,FALSE) -> 1.0490724
A30: 14 | B30: 1 | C30: Closing facades | D30: 6 | E30: 10 | F30: 15 | H30: =+$B30*(D30+FaktorA*E30+F30)/DivisorA -> 10.2 | I30: =+$B30*(F30-D30)/DivisorB -> 1.8 | J30: 1 | K30: =+I30*I30*J30 -> 3.24 | L30: =+(IF(GrandTotal_Priority<>0,K30/GrandTotal_Priority,0)) -> 0.00088168078 | O30: =+(IFERROR(((F30-E30)-(E30-D30))/E30,0)) -> 0.1 | Q30: 1 | R30: =+SUM(INDIRECT("q10:q"&ROW()-0)) -> 16 | S30: =+SUM(INDIRECT("q25:q"&ROW()-0)) -> 4 | T30: =+L30+R30*deltaId -> 0.00088328078 | U30: =+RANK(T30,T$11:T$52) -> 20 | V30: =+L30 -> 0.00088168078 | W30: =+IFERROR(D30/$H30,0) -> 0.58823529 | X30: =+IFERROR(E30/$H30,0) -> 0.98039216 | Y30: =+IFERROR(F30/$H30,0) -> 1.4705882 | Z30: =+$BC$11 -> 1.032715 | AA30: =+CONCATENATE("Opg",A30,": ",$C30) -> Opg14: Closing facades | AD30: =+$AE30-(1/2)*$K30/GrandTotal_Priority -> 0.99955916 | AE30: 1 | AF30: =+$AE30+(1/2)*$K30/GrandTotal_Priority -> 1.0004408 | AG30: =+AF30-AD30 -> 0.00088168078 | AH30: =+AG30-L30 -> 7.1448923e-17 | AJ30: =+VLOOKUP($R30,$U$11:$AA$52,$V$9,FALSE) -> 0.0068030925 | AP30: =+CONCATENATE("#",R30,": ",VLOOKUP($R30,$U$11:$AA$52,$AA$9,FALSE)) -> #16: Opg31: Land purchase | AS30: =+VLOOKUP($R30,$U$11:$AA$52,$W$9,FALSE) -> 0.55555556 | AT30: =+VLOOKUP($R30,$U$11:$AA$52,$Y$9,FALSE) -> 1.9444444 | AU30: =+VLOOKUP($R30,$U$11:$AA$52,$X$9,FALSE) -> 0.83333333
A31: 15 | B31: 1 | C31: Accommodation | D31: 10 | E31: 45 | F31: 100 | H31: =+$B31*(D31+FaktorA*E31+F31)/DivisorA -> 49 | I31: =+$B31*(F31-D31)/DivisorB -> 18 | J31: 1 | K31: =+I31*I31*J31 -> 324 | L31: =+(IF(GrandTotal_Priority<>0,K31/GrandTotal_Priority,0)) -> 0.088168078 | N31: The décor is not in place. | O31: =+(IFERROR(((F31-E31)-(E31-D31))/E31,0)) -> 0.44444444 | Q31: 1 | R31: =+SUM(INDIRECT("q10:q"&ROW()-0)) -> 17 | S31: =+SUM(INDIRECT("q25:q"&ROW()-0)) -> 5 | T31: =+L31+R31*deltaId -> 0.088169778 | U31: =+RANK(T31,T$11:T$52) -> 5 | V31: =+L31 -> 0.088168078 | W31: =+IFERROR(D31/$H31,0) -> 0.20408163 | X31: =+IFERROR(E31/$H31,0) -> 0.91836735 | Y31: =+IFERROR(F31/$H31,0) -> 2.0408163 | Z31: =+$BC$11 -> 1.032715 | AA31: =+CONCATENATE("Opg",A31,": ",$C31) -> Opg15: Accommodation | AD31: =+$AE31-(1/2)*$K31/GrandTotal_Priority -> 0.95591596 | AE31: 1 | AF31: =+$AE31+(1/2)*$K31/GrandTotal_Priority -> 1.044084 | AG31: =+AF31-AD31 -> 0.088168078 | AH31: =+AG31-L31 -> 0 | AJ31: =+VLOOKUP($R31,$U$11:$AA$52,$V$9,FALSE) -> 0.0068030925 | AP31: =+CONCATENATE("#",R31,": ",VLOOKUP($R31,$U$11:$AA$52,$AA$9,FALSE)) -> #17: Opg12: Building site | AS31: =+VLOOKUP($R31,$U$11:$AA$52,$W$9,FALSE) -> 0.75757576 | AT31: =+VLOOKUP($R31,$U$11:$AA$52,$Y$9,FALSE) -> 1.5151515 | AU31: =+VLOOKUP($R31,$U$11:$AA$52,$X$9,FALSE) -> 0.90909091
A32: 16 | B32: 1 | C32: Installations | D32: 20 | E32: 35 | F32: 75 | H32: =+$B32*(D32+FaktorA*E32+F32)/DivisorA -> 40 | I32: =+$B32*(F32-D32)/DivisorB -> 11 | J32: 1 | K32: =+I32*I32*J32 -> 121 | L32: =+(IF(GrandTotal_Priority<>0,K32/GrandTotal_Priority,0)) -> 0.032926968 | O32: =+(IFERROR(((F32-E32)-(E32-D32))/E32,0)) -> 0.71428571 | Q32: 2 | R32: =+SUM(INDIRECT("q10:q"&ROW()-0)) -> 19 | S32: =+SUM(INDIRECT("q25:q"&ROW()-0)) -> 7 | T32: =+L32+R32*deltaId -> 0.032928868 | U32: =+RANK(T32,T$11:T$52) -> 10 | V32: =+L32 -> 0.032926968 | W32: =+IFERROR(D32/$H32,0) -> 0.5 | X32: =+IFERROR(E32/$H32,0) -> 0.875 | Y32: =+IFERROR(F32/$H32,0) -> 1.875 | Z32: =+$BC$11 -> 1.032715 | AA32: =+CONCATENATE("Opg",A32,": ",$C32) -> Opg16: Installations | AD32: =+$AE32-(1/2)*$K32/GrandTotal_Priority -> 0.98353652 | AE32: 1 | AF32: =+$AE32+(1/2)*$K32/GrandTotal_Priority -> 1.0164635 | AG32: =+AF32-AD32 -> 0.032926968 | AH32: =+AG32-L32 -> 6.9388939e-17 | AJ32: =+VLOOKUP($R32,$U$11:$AA$52,$V$9,FALSE) -> 0.0055105049 | AP32: =+CONCATENATE("#",R32,": ",VLOOKUP($R32,$U$11:$AA$52,$AA$9,FALSE)) -> #19: GU(D): The Builders Org. | AS32: =+VLOOKUP($R32,$U$11:$AA$52,$W$9,FALSE) -> 0.98364252 | AT32: =+VLOOKUP($R32,$U$11:$AA$52,$Y$9,FALSE) -> 1.0572512 | AU32: =+VLOOKUP($R32,$U$11:$AA$52,$X$9,FALSE) -> 1.032715
A33: 17 | B33: 1 | C33: Landscape | D33: 8 | E33: 12 | F33: 15 | H33: =+$B33*(D33+FaktorA*E33+F33)/DivisorA -> 11.8 | I33: =+$B33*(F33-D33)/DivisorB -> 1.4 | J33: 1 | K33: =+I33*I33*J33 -> 1.96 | L33: =+(IF(GrandTotal_Priority<>0,K33/GrandTotal_Priority,"0")) -> 0.00053336245 | O33: =+(IFERROR(((F33-E33)-(E33-D33))/E33,0)) -> -0.083333333 | Q33: 1 | R33: =+SUM(INDIRECT("q10:q"&ROW()-0)) -> 20 | S33: =+SUM(INDIRECT("q25:q"&ROW()-0)) -> 8 | T33: =+L33+R33*deltaId -> 0.00053536245 | U33: =+RANK(T33,T$11:T$52) -> 23 | V33: =+L33 -> 0.00053336245 | W33: =+IFERROR(D33/$H33,0) -> 0.6779661 | X33: =+IFERROR(E33/$H33,0) -> 1.0169492 | Y33: =+IFERROR(F33/$H33,0) -> 1.2711864 | Z33: =+$BC$11 -> 1.032715 | AA33: =+CONCATENATE("Opg",A33,": ",$C33) -> Opg17: Landscape | AD33: =+$AE33-(1/2)*$K33/GrandTotal_Priority -> 0.99973332 | AE33: 1 | AF33: =+$AE33+(1/2)*$K33/GrandTotal_Priority -> 1.0002667 | AG33: =+AF33-AD33 -> 0.00053336245 | AH33: =+AG33-L33 -> -4.3042826e-17 | AJ33: =+VLOOKUP($R33,$U$11:$AA$52,$V$9,FALSE) -> 0.00088168078 | AP33: =+CONCATENATE("#",R33,": ",VLOOKUP($R33,$U$11:$AA$52,$AA$9,FALSE)) -> #20: Opg14: Closing facades | AS33: =+VLOOKUP($R33,$U$11:$AA$52,$W$9,FALSE) -> 0.58823529 | AT33: =+VLOOKUP($R33,$U$11:$AA$52,$Y$9,FALSE) -> 1.4705882 | AU33: =+VLOOKUP($R33,$U$11:$AA$52,$X$9,FALSE) -> 0.98039216
A34: 21 | B34: 1 | C34: Projecting | D34: =+E34*80% -> 10.52 | E34: =5%*SUM(H$27:H$33) -> 13.15 | F34: =+E34*125% -> 16.4375 | G34: =+SUM(H34:H37)/Mean_Tasks -> 0.060704178 | H34: =+$B34*(D34+FaktorA*E34+F34)/DivisorA -> 13.2815 | I34: =+$B34*(F34-D34)/DivisorB -> 1.1835 | J34: 1 | K34: =+I34*I34*J34 -> 1.4006722 | L34: =+(IF(GrandTotal_Priority<>0,K34/GrandTotal_Priority,"0")) -> 0.00038115611 | N34: One % rate of contracts (mean). | O34: =+(IFERROR(((F34-E34)-(E34-D34))/E34,0)) -> 0.05 | Q34: 1 | R34: =+SUM(INDIRECT("q10:q"&ROW()-0)) -> 21 | S34: =+SUM(INDIRECT("q25:q"&ROW()-0)) -> 9 | T34: =+L34+R34*deltaId -> 0.00038325611 | U34: =+RANK(T34,T$11:T$52) -> 25 | V34: =+L34 -> 0.00038115611 | W34: =+IFERROR(D34/$H34,0) -> 0.79207921 | X34: =+IFERROR(E34/$H34,0) -> 0.99009901 | Y34: =+IFERROR(F34/$H34,0) -> 1.2376238 | Z34: =+$BC$11 -> 1.032715 | AA34: =+CONCATENATE("Opg",A34,": ",$C34) -> Opg21: Projecting | AD34: =+$AE34-(1/2)*$K34/GrandTotal_Priority -> 0.99980942 | AE34: 1 | AF34: =+$AE34+(1/2)*$K34/GrandTotal_Priority -> 1.0001906 | AG34: =+AF34-AD34 -> 0.00038115611 | AH34: =+AG34-L34 -> -3.5778672e-18 | AJ34: =+VLOOKUP($R34,$U$11:$AA$52,$V$9,FALSE) -> 0.0005532233 | AP34: =+CONCATENATE("#",R34,": ",VLOOKUP($R34,$U$11:$AA$52,$AA$9,FALSE)) -> #21: Opg38: Financing | AS34: =+VLOOKUP($R34,$U$11:$AA$52,$W$9,FALSE) -> 0.58823529 | AT34: =+VLOOKUP($R34,$U$11:$AA$52,$Y$9,FALSE) -> 1.4705882 | AU34: =+VLOOKUP($R34,$U$11:$AA$52,$X$9,FALSE) -> 0.98039216
A35: 22 | B35: 1 | C35: Counselling | D35: =+E35*60% -> 3.945 | E35: =2.5%*SUM(H$27:H$33) -> 6.575 | F35: =+E35*150% -> 9.8625 | H35: =+$B35*(D35+FaktorA*E35+F35)/DivisorA -> 6.7065 | I35: =+$B35*(F35-D35)/DivisorB -> 1.1835 | J35: 1 | K35: =+I35*I35*J35 -> 1.4006722 | L35: =+(IF(GrandTotal_Priority<>0,K35/GrandTotal_Priority,"0")) -> 0.00038115611 | N35: One % rate of contracts (mean). | O35: =+(IFERROR(((F35-E35)-(E35-D35))/E35,0)) -> 0.1 | Q35: 1 | R35: =+SUM(INDIRECT("q10:q"&ROW()-0)) -> 22 | S35: =+SUM(INDIRECT("q25:q"&ROW()-0)) -> 10 | T35: =+L35+R35*deltaId -> 0.00038335611 | U35: =+RANK(T35,T$11:T$52) -> 24 | V35: =+L35 -> 0.00038115611 | W35: =+IFERROR(D35/$H35,0) -> 0.58823529 | X35: =+IFERROR(E35/$H35,0) -> 0.98039216 | Y35: =+IFERROR(F35/$H35,0) -> 1.4705882 | Z35: =+$BC$11 -> 1.032715 | AA35: =+CONCATENATE("Opg",A35,": ",$C35) -> Opg22: Counselling | AD35: =+$AE35-(1/2)*$K35/GrandTotal_Priority -> 0.99980942 | AE35: 1 | AF35: =+$AE35+(1/2)*$K35/GrandTotal_Priority -> 1.0001906 | AG35: =+AF35-AD35 -> 0.00038115611 | AH35: =+AG35-L35 -> -3.7404975e-18 | AJ35: =+VLOOKUP($R35,$U$11:$AA$52,$V$9,FALSE) -> 0.00053336245 | AP35: =+CONCATENATE("#",R35,": ",VLOOKUP($R35,$U$11:$AA$52,$AA$9,FALSE)) -> #22: Opg33: Internal roads | AS35: =+VLOOKUP($R35,$U$11:$AA$52,$W$9,FALSE) -> 0.20833333 | AT35: =+VLOOKUP($R35,$U$11:$AA$52,$Y$9,FALSE) -> 1.6666667 | AU35: =+VLOOKUP($R35,$U$11:$AA$52,$X$9,FALSE) -> 1.0416667
A36: 23 | B36: 1 | C36: Construction management | D36: =+E36*60% -> 0.789 | E36: =0.5%*SUM(H$27:H$33) -> 1.315 | F36: =+E36*150% -> 1.9725 | H36: =+$B36*(D36+FaktorA*E36+F36)/DivisorA -> 1.3413 | I36: =+$B36*(F36-D36)/DivisorB -> 0.2367 | J36: 1 | K36: =+I36*I36*J36 -> 0.05602689 | L36: =+(IF(GrandTotal_Priority<>0,K36/GrandTotal_Priority,"0")) -> 1.5246245e-05 | N36: One % rate of contracts (mean). | O36: =+(IFERROR(((F36-E36)-(E36-D36))/E36,0)) -> 0.1 | Q36: 1 | R36: =+SUM(INDIRECT("q10:q"&ROW()-0)) -> 23 | S36: =+SUM(INDIRECT("q25:q"&ROW()-0)) -> 11 | T36: =+L36+R36*deltaId -> 1.7546245e-05 | U36: =+RANK(T36,T$11:T$52) -> 31 | V36: =+L36 -> 1.5246245e-05 | W36: =+IFERROR(D36/$H36,0) -> 0.58823529 | X36: =+IFERROR(E36/$H36,0) -> 0.98039216 | Y36: =+IFERROR(F36/$H36,0) -> 1.4705882 | Z36: =+$BC$11 -> 1.032715 | AA36: =+CONCATENATE("Opg",A36,": ",$C36) -> Opg23: Construction management | AD36: =+$AE36-(1/2)*$K36/GrandTotal_Priority -> 0.99999238 | AE36: 1 | AF36: =+$AE36+(1/2)*$K36/GrandTotal_Priority -> 1.0000076 | AG36: =+AF36-AD36 -> 1.5246245e-05 | AH36: =+AG36-L36 -> 6.6464981e-17 | AJ36: =+VLOOKUP($R36,$U$11:$AA$52,$V$9,FALSE) -> 0.00053336245 | AP36: =+CONCATENATE("#",R36,": ",VLOOKUP($R36,$U$11:$AA$52,$AA$9,FALSE)) -> #23: Opg17: Landscape | AS36: =+VLOOKUP($R36,$U$11:$AA$52,$W$9,FALSE) -> 0.6779661 | AT36: =+VLOOKUP($R36,$U$11:$AA$52,$Y$9,FALSE) -> 1.2711864 | AU36: =+VLOOKUP($R36,$U$11:$AA$52,$X$9,FALSE) -> 1.0169492
A37: 24 | B37: 1 | C37: Supervision | D37: =+E37*60% -> 0.789 | E37: =0.5%*SUM(H$27:H$33) -> 1.315 | F37: =+E37*150% -> 1.9725 | H37: =+$B37*(D37+FaktorA*E37+F37)/DivisorA -> 1.3413 | I37: =+$B37*(F37-D37)/DivisorB -> 0.2367 | J37: 1 | K37: =+I37*I37*J37 -> 0.05602689 | L37: =+(IF(GrandTotal_Priority<>0,K37/GrandTotal_Priority,"0")) -> 1.5246245e-05 | N37: One % rate of contracts (mean). | O37: =+(IFERROR(((F37-E37)-(E37-D37))/E37,0)) -> 0.1 | Q37: 1 | R37: =+SUM(INDIRECT("q10:q"&ROW()-0)) -> 24 | S37: =+SUM(INDIRECT("q25:q"&ROW()-0)) -> 12 | T37: =+L37+R37*deltaId -> 1.7646245e-05 | U37: =+RANK(T37,T$11:T$52) -> 30 | V37: =+L37 -> 1.5246245e-05 | W37: =+IFERROR(D37/$H37,0) -> 0.58823529 | X37: =+IFERROR(E37/$H37,0) -> 0.98039216 | Y37: =+IFERROR(F37/$H37,0) -> 1.4705882 | Z37: =+$BC$11 -> 1.032715 | AA37: =+CONCATENATE("Opg",A37,": ",$C37) -> Opg24: Supervision | AD37: =+$AE37-(1/2)*$K37/GrandTotal_Priority -> 0.99999238 | AE37: 1 | AF37: =+$AE37+(1/2)*$K37/GrandTotal_Priority -> 1.0000076 | AG37: =+AF37-AD37 -> 1.5246245e-05 | AH37: =+AG37-L37 -> 6.6464981e-17 | AJ37: =+VLOOKUP($R37,$U$11:$AA$52,$V$9,FALSE) -> 0.00038115611 | AP37: =+CONCATENATE("#",R37,": ",VLOOKUP($R37,$U$11:$AA$52,$AA$9,FALSE)) -> #24: Opg22: Counselling | AS37: =+VLOOKUP($R37,$U$11:$AA$52,$W$9,FALSE) -> 0.58823529 | AT37: =+VLOOKUP($R37,$U$11:$AA$52,$Y$9,FALSE) -> 1.4705882 | AU37: =+VLOOKUP($R37,$U$11:$AA$52,$X$9,FALSE) -> 0.98039216
A38: 31 | B38: 1 | C38: Land purchase | D38: 10 | E38: 15 | F38: 35 | G38: =+SUM(H38:H45)/Mean_Tasks -> 0.10512414 | H38: =+$B38*(D38+FaktorA*E38+F38)/DivisorA -> 18 | I38: =+$B38*(F38-D38)/DivisorB -> 5 | J38: 1 | K38: =+I38*I38*J38 -> 25 | L38: =+(IF(GrandTotal_Priority<>0,K38/GrandTotal_Priority,"0")) -> 0.0068030925 | O38: =+(IFERROR(((F38-E38)-(E38-D38))/E38,0)) -> 1 | Q38: 1 | R38: =+SUM(INDIRECT("q10:q"&ROW()-0)) -> 25 | S38: =+SUM(INDIRECT("q25:q"&ROW()-0)) -> 13 | T38: =+L38+R38*deltaId -> 0.0068055925 | U38: =+RANK(T38,T$11:T$52) -> 16 | V38: =+L38 -> 0.0068030925 | W38: =+IFERROR(D38/$H38,0) -> 0.55555556 | X38: =+IFERROR(E38/$H38,0) -> 0.83333333 | Y38: =+IFERROR(F38/$H38,0) -> 1.9444444 | Z38: =+$BC$11 -> 1.032715 | AA38: =+CONCATENATE("Opg",A38,": ",$C38) -> Opg31: Land purchase | AD38: =+$AE38-(1/2)*$K38/GrandTotal_Priority -> 0.99659845 | AE38: 1 | AF38: =+$AE38+(1/2)*$K38/GrandTotal_Priority -> 1.0034015 | AG38: =+AF38-AD38 -> 0.0068030925 | AH38: =+AG38-L38 -> 2.1684043e-17 | AJ38: =+VLOOKUP($R38,$U$11:$AA$52,$V$9,FALSE) -> 0.00038115611 | AP38: =+CONCATENATE("#",R38,": ",VLOOKUP($R38,$U$11:$AA$52,$AA$9,FALSE)) -> #25: Opg21: Projecting | AS38: =+VLOOKUP($R38,$U$11:$AA$52,$W$9,FALSE) -> 0.79207921 | AT38: =+VLOOKUP($R38,$U$11:$AA$52,$Y$9,FALSE) -> 1.2376238 | AU38: =+VLOOKUP($R38,$U$11:$AA$52,$X$9,FALSE) -> 0.99009901
A39: 32 | B39: 1 | C39: Geotechnical investigation | D39: 1 | E39: 2 | F39: 3 | H39: =+$B39*(D39+FaktorA*E39+F39)/DivisorA -> 2 | I39: =+$B39*(F39-D39)/DivisorB -> 0.4 | J39: 1 | K39: =+I39*I39*J39 -> 0.16 | L39: =+(IF(GrandTotal_Priority<>0,K39/GrandTotal_Priority,"0")) -> 4.3539792e-05 | O39: =+(IFERROR(((F39-E39)-(E39-D39))/E39,0)) -> 0 | Q39: 1 | R39: =+SUM(INDIRECT("q10:q"&ROW()-0)) -> 26 | S39: =+SUM(INDIRECT("q25:q"&ROW()-0)) -> 14 | T39: =+L39+R39*deltaId -> 4.6139792e-05 | U39: =+RANK(T39,T$11:T$52) -> 28 | V39: =+L39 -> 4.3539792e-05 | W39: =+IFERROR(D39/$H39,0) -> 0.5 | X39: =+IFERROR(E39/$H39,0) -> 1 | Y39: =+IFERROR(F39/$H39,0) -> 1.5 | Z39: =+$BC$11 -> 1.032715 | AA39: =+CONCATENATE("Opg",A39,": ",$C39) -> Opg32: Geotechnical investigation | AD39: =+$AE39-(1/2)*$K39/GrandTotal_Priority -> 0.99997823 | AE39: 1 | AF39: =+$AE39+(1/2)*$K39/GrandTotal_Priority -> 1.0000218 | AG39: =+AF39-AD39 -> 4.3539792e-05 | AH39: =+AG39-L39 -> -8.282627e-17 | AJ39: =+VLOOKUP($R39,$U$11:$AA$52,$V$9,FALSE) -> 0.00021187551 | AP39: =+CONCATENATE("#",R39,": ",VLOOKUP($R39,$U$11:$AA$52,$AA$9,FALSE)) -> #26: Opg97: Unk Unks Group 1 | AS39: =+VLOOKUP($R39,$U$11:$AA$52,$W$9,FALSE) -> 0.1280799 | AT39: =+VLOOKUP($R39,$U$11:$AA$52,$Y$9,FALSE) -> 1.8719201 | AU39: =+VLOOKUP($R39,$U$11:$AA$52,$X$9,FALSE) -> 1
A40: 33 | B40: 1 | C40: Internal roads | D40: 1 | E40: 5 | F40: 8 | H40: =+$B40*(D40+FaktorA*E40+F40)/DivisorA -> 4.8 | I40: =+$B40*(F40-D40)/DivisorB -> 1.4 | J40: 1 | K40: =+I40*I40*J40 -> 1.96 | L40: =+(IF(GrandTotal_Priority<>0,K40/GrandTotal_Priority,"0")) -> 0.00053336245 | O40: =+(IFERROR(((F40-E40)-(E40-D40))/E40,0)) -> -0.2 | Q40: 1 | R40: =+SUM(INDIRECT("q10:q"&ROW()-0)) -> 27 | S40: =+SUM(INDIRECT("q25:q"&ROW()-0)) -> 15 | T40: =+L40+R40*deltaId -> 0.00053606245 | U40: =+RANK(T40,T$11:T$52) -> 22 | V40: =+L40 -> 0.00053336245 | W40: =+IFERROR(D40/$H40,0) -> 0.20833333 | X40: =+IFERROR(E40/$H40,0) -> 1.0416667 | Y40: =+IFERROR(F40/$H40,0) -> 1.6666667 | Z40: =+$BC$11 -> 1.032715 | AA40: =+CONCATENATE("Opg",A40,": ",$C40) -> Opg33: Internal roads | AD40: =+$AE40-(1/2)*$K40/GrandTotal_Priority -> 0.99973332 | AE40: 1 | AF40: =+$AE40+(1/2)*$K40/GrandTotal_Priority -> 1.0002667 | AG40: =+AF40-AD40 -> 0.00053336245 | AH40: =+AG40-L40 -> -4.3042826e-17 | AJ40: =+VLOOKUP($R40,$U$11:$AA$52,$V$9,FALSE) -> 9.7964532e-05 | AP40: =+CONCATENATE("#",R40,": ",VLOOKUP($R40,$U$11:$AA$52,$AA$9,FALSE)) -> #27: Opg34: Terrain regulation | AS40: =+VLOOKUP($R40,$U$11:$AA$52,$W$9,FALSE) -> 0.45454545 | AT40: =+VLOOKUP($R40,$U$11:$AA$52,$Y$9,FALSE) -> 1.8181818 | AU40: =+VLOOKUP($R40,$U$11:$AA$52,$X$9,FALSE) -> 0.90909091
...

Sheet Plot
A1: PLOT OF 3PE DATA | E1: Plot data
A2: <> | T2: For controlling plot sequence
A3: =Data!$C$26 -> Tasks | E3: 4 | F3: 1 | G3: 3 | H3: 2 | T3: =+MAX(E3:H3) -> 4 | U3: Plot of Min, M.L. Max and Mean
A4: RefNo. | C4: TF | E4: Mean | F4: Min | G4: M.L. | H4: Max | J4: x1 | K4: x2 | L4: y1 | M4: y2 | O4: x2 | P4: x3 | Q4: y2 | R4: y3 | T4: No. | U4: Serie No. | W4: Plot
A5: =Data!A27 -> 11 | C5: =+IF(Data!$H27<0,$G$50,IF(Data!$H27=0,100%,$G$51)) -> 1 | E5: =+Data!$B27*Data!H27*IF(TF_Include=1,$C5,100%) -> 14 | F5: =+Data!$B27*Data!D27*IF(TF_Include=1,$C5,100%) -> 5 | G5: =+Data!$B27*Data!E27*IF(TF_Include=1,$C5,100%) -> 10 | H5: =+Data!$B27*Data!F27*IF(TF_Include=1,$C5,100%) -> 35 | I5: =+_xlfn.CONCAT($A5,".a") -> 11.a | J5: =+$E5 -> 14 | K5: =+$E5 -> 14 | L5: =+$F5 -> 5 | M5: =+$G5 -> 10 | N5: =+_xlfn.CONCAT($A5,".b") -> 11.b | O5: =+$E5 -> 14 | P5: =+$E5 -> 14 | Q5: =+$G5 -> 10 | R5: =+$H5 -> 35 | T5: 1 | U5: =+T3+1 -> 5 | V5: =+U5+1 -> 6 | W5: =+_xlfn.CONCAT(U5," & ",V5) -> 5 & 6
A6: =Data!A28 -> 12 | C6: =+IF(Data!$H28<0,$G$50,IF(Data!$H28=0,100%,$G$51)) -> 1 | E6: =+Data!$B28*Data!H28*IF(TF_Include=1,$C6,100%) -> 33 | F6: =+Data!$B28*Data!D28*IF(TF_Include=1,$C6,100%) -> 25 | G6: =+Data!$B28*Data!E28*IF(TF_Include=1,$C6,100%) -> 30 | H6: =+Data!$B28*Data!F28*IF(TF_Include=1,$C6,100%) -> 50 | I6: =+_xlfn.CONCAT($A6,".a") -> 12.a | J6: =+$E6 -> 33 | K6: =+$E6 -> 33 | L6: =+$F6 -> 25 | M6: =+$G6 -> 30 | N6: =+_xlfn.CONCAT($A6,".b") -> 12.b | O6: =+$E6 -> 33 | P6: =+$E6 -> 33 | Q6: =+$G6 -> 30 | R6: =+$H6 -> 50 | T6: =+T5+1 -> 2 | U6: =+U5+2 -> 7 | V6: =+U6+1 -> 8 | W6: =+_xlfn.CONCAT(U6," & ",V6) -> 7 & 8
A7: =Data!A29 -> 13 | C7: =+IF(Data!$H29<0,$G$50,IF(Data!$H29=0,100%,$G$51)) -> 1 | E7: =+Data!$B29*Data!H29*IF(TF_Include=1,$C7,100%) -> 105 | F7: =+Data!$B29*Data!D29*IF(TF_Include=1,$C7,100%) -> 75 | G7: =+Data!$B29*Data!E29*IF(TF_Include=1,$C7,100%) -> 100 | H7: =+Data!$B29*Data!F29*IF(TF_Include=1,$C7,100%) -> 150 | I7: =+_xlfn.CONCAT($A7,".a") -> 13.a | J7: =+$E7 -> 105 | K7: =+$E7 -> 105 | L7: =+$F7 -> 75 | M7: =+$G7 -> 100 | N7: =+_xlfn.CONCAT($A7,".b") -> 13.b | O7: =+$E7 -> 105 | P7: =+$E7 -> 105 | Q7: =+$G7 -> 100 | R7: =+$H7 -> 150 | T7: =+T6+1 -> 3 | U7: =+U6+2 -> 9 | V7: =+U7+1 -> 10 | W7: =+_xlfn.CONCAT(U7," & ",V7) -> 9 & 10
A8: =Data!A30 -> 14 | C8: =+IF(Data!$H30<0,$G$50,IF(Data!$H30=0,100%,$G$51)) -> 1 | E8: =+Data!$B30*Data!H30*IF(TF_Include=1,$C8,100%) -> 10.2 | F8: =+Data!$B30*Data!D30*IF(TF_Include=1,$C8,100%) -> 6 | G8: =+Data!$B30*Data!E30*IF(TF_Include=1,$C8,100%) -> 10 | H8: =+Data!$B30*Data!F30*IF(TF_Include=1,$C8,100%) -> 15 | I8: =+_xlfn.CONCAT($A8,".a") -> 14.a | J8: =+$E8 -> 10.2 | K8: =+$E8 -> 10.2 | L8: =+$F8 -> 6 | M8: =+$G8 -> 10 | N8: =+_xlfn.CONCAT($A8,".b") -> 14.b | O8: =+$E8 -> 10.2 | P8: =+$E8 -> 10.2 | Q8: =+$G8 -> 10 | R8: =+$H8 -> 15 | T8: =+T7+1 -> 4 | U8: =+U7+2 -> 11 | V8: =+U8+1 -> 12 | W8: =+_xlfn.CONCAT(U8," & ",V8) -> 11 & 12
A9: =Data!A31 -> 15 | C9: =+IF(Data!$H31<0,$G$50,IF(Data!$H31=0,100%,$G$51)) -> 1 | E9: =+Data!$B31*Data!H31*IF(TF_Include=1,$C9,100%) -> 49 | F9: =+Data!$B31*Data!D31*IF(TF_Include=1,$C9,100%) -> 10 | G9: =+Data!$B31*Data!E31*IF(TF_Include=1,$C9,100%) -> 45 | H9: =+Data!$B31*Data!F31*IF(TF_Include=1,$C9,100%) -> 100 | I9: =+_xlfn.CONCAT($A9,".a") -> 15.a | J9: =+$E9 -> 49 | K9: =+$E9 -> 49 | L9: =+$F9 -> 10 | M9: =+$G9 -> 45 | N9: =+_xlfn.CONCAT($A9,".b") -> 15.b | O9: =+$E9 -> 49 | P9: =+$E9 -> 49 | Q9: =+$G9 -> 45 | R9: =+$H9 -> 100 | T9: =+T8+1 -> 5 | U9: =+U8+2 -> 13 | V9: =+U9+1 -> 14 | W9: =+_xlfn.CONCAT(U9," & ",V9) -> 13 & 14
A10: =Data!A32 -> 16 | C10: =+IF(Data!$H32<0,$G$50,IF(Data!$H32=0,100%,$G$51)) -> 1 | E10: =+Data!$B32*Data!H32*IF(TF_Include=1,$C10,100%) -> 40 | F10: =+Data!$B32*Data!D32*IF(TF_Include=1,$C10,100%) -> 20 | G10: =+Data!$B32*Data!E32*IF(TF_Include=1,$C10,100%) -> 35 | H10: =+Data!$B32*Data!F32*IF(TF_Include=1,$C10,100%) -> 75 | I10: =+_xlfn.CONCAT($A10,".a") -> 16.a | J10: =+$E10 -> 40 | K10: =+$E10 -> 40 | L10: =+$F10 -> 20 | M10: =+$G10 -> 35 | N10: =+_xlfn.CONCAT($A10,".b") -> 16.b | O10: =+$E10 -> 40 | P10: =+$E10 -> 40 | Q10: =+$G10 -> 35 | R10: =+$H10 -> 75 | T10: =+T9+1 -> 6 | U10: =+U9+2 -> 15 | V10: =+U10+1 -> 16 | W10: =+_xlfn.CONCAT(U10," & ",V10) -> 15 & 16
A11: =Data!A33 -> 17 | C11: =+IF(Data!$H33<0,$G$50,IF(Data!$H33=0,100%,$G$51)) -> 1 | E11: =+Data!$B33*Data!H33*IF(TF_Include=1,$C11,100%) -> 11.8 | F11: =+Data!$B33*Data!D33*IF(TF_Include=1,$C11,100%) -> 8 | G11: =+Data!$B33*Data!E33*IF(TF_Include=1,$C11,100%) -> 12 | H11: =+Data!$B33*Data!F33*IF(TF_Include=1,$C11,100%) -> 15 | I11: =+_xlfn.CONCAT($A11,".a") -> 17.a | J11: =+$E11 -> 11.8 | K11: =+$E11 -> 11.8 | L11: =+$F11 -> 8 | M11: =+$G11 -> 12 | N11: =+_xlfn.CONCAT($A11,".b") -> 17.b | O11: =+$E11 -> 11.8 | P11: =+$E11 -> 11.8 | Q11: =+$G11 -> 12 | R11: =+$H11 -> 15 | T11: =+T10+1 -> 7 | U11: =+U10+2 -> 17 | V11: =+U11+1 -> 18 | W11: =+_xlfn.CONCAT(U11," & ",V11) -> 17 & 18
A12: =Data!A34 -> 21 | C12: =+IF(Data!$H34<0,$G$50,IF(Data!$H34=0,100%,$G$51)) -> 1 | E12: =+Data!$B34*Data!H34*IF(TF_Include=1,$C12,100%) -> 13.2815 | F12: =+Data!$B34*Data!D34*IF(TF_Include=1,$C12,100%) -> 10.52 | G12: =+Data!$B34*Data!E34*IF(TF_Include=1,$C12,100%) -> 13.15 | H12: =+Data!$B34*Data!F34*IF(TF_Include=1,$C12,100%) -> 16.4375 | I12: =+_xlfn.CONCAT($A12,".a") -> 21.a | J12: =+$E12 -> 13.2815 | K12: =+$E12 -> 13.2815 | L12: =+$F12 -> 10.52 | M12: =+$G12 -> 13.15 | N12: =+_xlfn.CONCAT($A12,".b") -> 21.b | O12: =+$E12 -> 13.2815 | P12: =+$E12 -> 13.2815 | Q12: =+$G12 -> 13.15 | R12: =+$H12 -> 16.4375 | T12: =+T11+1 -> 8 | U12: =+U11+2 -> 19 | V12: =+U12+1 -> 20 | W12: =+_xlfn.CONCAT(U12," & ",V12) -> 19 & 20
A13: =Data!A35 -> 22 | C13: =+IF(Data!$H35<0,$G$50,IF(Data!$H35=0,100%,$G$51)) -> 1 | E13: =+Data!$B35*Data!H35*IF(TF_Include=1,$C13,100%) -> 6.7065 | F13: =+Data!$B35*Data!D35*IF(TF_Include=1,$C13,100%) -> 3.945 | G13: =+Data!$B35*Data!E35*IF(TF_Include=1,$C13,100%) -> 6.575 | H13: =+Data!$B35*Data!F35*IF(TF_Include=1,$C13,100%) -> 9.8625 | I13: =+_xlfn.CONCAT($A13,".a") -> 22.a | J13: =+$E13 -> 6.7065 | K13: =+$E13 -> 6.7065 | L13: =+$F13 -> 3.945 | M13: =+$G13 -> 6.575 | N13: =+_xlfn.CONCAT($A13,".b") -> 22.b | O13: =+$E13 -> 6.7065 | P13: =+$E13 -> 6.7065 | Q13: =+$G13 -> 6.575 | R13: =+$H13 -> 9.8625 | T13: =+T12+1 -> 9 | U13: =+U12+2 -> 21 | V13: =+U13+1 -> 22 | W13: =+_xlfn.CONCAT(U13," & ",V13) -> 21 & 22
A14: =Data!A36 -> 23 | C14: =+IF(Data!$H36<0,$G$50,IF(Data!$H36=0,100%,$G$51)) -> 1 | E14: =+Data!$B36*Data!H36*IF(TF_Include=1,$C14,100%) -> 1.3413 | F14: =+Data!$B36*Data!D36*IF(TF_Include=1,$C14,100%) -> 0.789 | G14: =+Data!$B36*Data!E36*IF(TF_Include=1,$C14,100%) -> 1.315 | H14: =+Data!$B36*Data!F36*IF(TF_Include=1,$C14,100%) -> 1.9725 | I14: =+_xlfn.CONCAT($A14,".a") -> 23.a | J14: =+$E14 -> 1.3413 | K14: =+$E14 -> 1.3413 | L14: =+$F14 -> 0.789 | M14: =+$G14 -> 1.315 | N14: =+_xlfn.CONCAT($A14,".b") -> 23.b | O14: =+$E14 -> 1.3413 | P14: =+$E14 -> 1.3413 | Q14: =+$G14 -> 1.315 | R14: =+$H14 -> 1.9725 | T14: =+T13+1 -> 10 | U14: =+U13+2 -> 23 | V14: =+U14+1 -> 24 | W14: =+_xlfn.CONCAT(U14," & ",V14) -> 23 & 24
A15: =Data!A37 -> 24 | C15: =+IF(Data!$H37<0,$G$50,IF(Data!$H37=0,100%,$G$51)) -> 1 | E15: =+Data!$B37*Data!H37*IF(TF_Include=1,$C15,100%) -> 1.3413 | F15: =+Data!$B37*Data!D37*IF(TF_Include=1,$C15,100%) -> 0.789 | G15: =+Data!$B37*Data!E37*IF(TF_Include=1,$C15,100%) -> 1.315 | H15: =+Data!$B37*Data!F37*IF(TF_Include=1,$C15,100%) -> 1.9725 | I15: =+_xlfn.CONCAT($A15,".a") -> 24.a | J15: =+$E15 -> 1.3413 | K15: =+$E15 -> 1.3413 | L15: =+$F15 -> 0.789 | M15: =+$G15 -> 1.315 | N15: =+_xlfn.CONCAT($A15,".b") -> 24.b | O15: =+$E15 -> 1.3413 | P15: =+$E15 -> 1.3413 | Q15: =+$G15 -> 1.315 | R15: =+$H15 -> 1.9725 | T15: =+T14+1 -> 11 | U15: =+U14+2 -> 25 | V15: =+U15+1 -> 26 | W15: =+_xlfn.CONCAT(U15," & ",V15) -> 25 & 26
